BEGIN:VCALENDAR
VERSION:2.0
PRODID:-//ChamberMaster//Event Calendar 2.0//EN
METHOD:PUBLISH
X-PUBLISHED-TTL:P3D
REFRESH-INTERVAL:P3D
CALSCALE:GREGORIAN
BEGIN:VEVENT
DTSTART:20200502T140000Z
DTEND:20200502T151500Z
X-MICROSOFT-CDO-ALLDAYEVENT:FALSE
SUMMARY:Live DJ + Yoga with Coconut Yoga
DESCRIPTION:Start your day with your online Coconut community with a guided flow led by Kate in the comfort of your own home while being accompanied buy the high vibrational energy of Dj Taz's live set. Connect\, let go\, and feel free. See you on your mat!
X-ALT-DESC;FMTTYPE=text/html:Start your day with your online Coconut community with a guided flow led by Kate in the comfort of your own home while being accompanied buy the high vibrational energy of Dj Taz&#39\;s live set. Connect\, let go\, and feel free. See you on your mat!
LOCATION:Coconut Yoga Online
UID:e.1775.14263
SEQUENCE:3
DTSTAMP:20260426T034649Z
URL:https://business.northcenterchamber.com/events/details/live-dj-yoga-with-coconut-yoga-14263
END:VEVENT

END:VCALENDAR
