BEGIN:VCALENDAR
VERSION:2.0
PRODID:-//ChamberMaster//Event Calendar 2.0//EN
METHOD:PUBLISH
X-PUBLISHED-TTL:P3D
REFRESH-INTERVAL:P3D
CALSCALE:GREGORIAN
BEGIN:VEVENT
DTSTART:20200502T143000Z
DTEND:20200502T150000Z
X-MICROSOFT-CDO-ALLDAYEVENT:FALSE
SUMMARY:Live Q&A with Physical Therapist
DESCRIPTION:Our physical therapist and orthopedic clinical specialist (TOM DYKE\, DPT\, OCS) is answering any and all questions regarding injury\, recovery\, and injury prevention this Saturday morning at 9:30am on Instagram and Facebook LIVE.
X-ALT-DESC;FMTTYPE=text/html:Our physical therapist and orthopedic clinical specialist (TOM DYKE\, DPT\, OCS) is answering any and all questions regarding injury\, recovery\, and injury prevention this Saturday morning at 9:30am on Instagram and Facebook LIVE.
LOCATION:
UID:e.1775.14284
SEQUENCE:3
DTSTAMP:20260426T034307Z
URL:https://business.northcenterchamber.com/events/details/live-q-a-with-physical-therapist-14284
END:VEVENT

END:VCALENDAR
