BEGIN:VCALENDAR
VERSION:2.0
PRODID:-//ChamberMaster//Event Calendar 2.0//EN
METHOD:PUBLISH
X-PUBLISHED-TTL:P3D
REFRESH-INTERVAL:P3D
CALSCALE:GREGORIAN
BEGIN:VEVENT
DTSTART:20200428T124500Z
DTEND:20200528T131500Z
X-MICROSOFT-CDO-ALLDAYEVENT:FALSE
SUMMARY:LIVE SOCCER WELLNESS SESSION
DESCRIPTION:A full body workout for soccer and non soccer players of all ages. A 30 min high intensity workout which can be done at your own pace but will keep your body and mind sharp.
X-ALT-DESC;FMTTYPE=text/html:A full body workout for soccer and non soccer players of all ages. A 30 min high intensity workout which can be done at your own pace but will keep your body and mind sharp.
LOCATION:Facebook Instagram YouTube Www.chicagocitysoccerclub.com
UID:e.1775.14276
SEQUENCE:3
DTSTAMP:20260426T033740Z
URL:https://business.northcenterchamber.com/events/details/live-soccer-wellness-session-14276
END:VEVENT

END:VCALENDAR
