BEGIN:VCALENDAR
VERSION:2.0
PRODID:-//ChamberMaster//Event Calendar 2.0//EN
METHOD:PUBLISH
X-PUBLISHED-TTL:P3D
REFRESH-INTERVAL:P3D
CALSCALE:GREGORIAN
BEGIN:VEVENT
DTSTART:20200503T000000Z
DTEND:20200503T011500Z
X-MICROSOFT-CDO-ALLDAYEVENT:FALSE
SUMMARY:Live Stream Concert! Third Coast Percussion
DESCRIPTION:Join us for a live concert from your own living room! GRAMMY Award-winning quartet Third Coast Percussion performs an exciting program of contemporary music\, including John Cage's iconic masterpiece "Third Construction"\, and a brand new work composed for the ensemble by composer and modular synth practitioner Bana Haffar\, titled "Shed." We will also have live Q&A with the ensemble!
X-ALT-DESC;FMTTYPE=text/html:Join us for a live concert&mdash\;from your own living room! GRAMMY Award-winning quartet Third Coast Percussion performs an exciting program of contemporary music\, including John Cage&#39\;s iconic masterpiece &quot\;Third Construction&quot\;\, and a brand new work composed for the ensemble by composer and modular synth practitioner Bana Haffar\, titled &quot\;Shed.&quot\; We will also have live Q&amp\;A with the ensemble!
LOCATION:Anywhere! We'll be streaming from our studio in Northcenter.
UID:e.1775.14303
SEQUENCE:3
DTSTAMP:20260426T033659Z
URL:https://business.northcenterchamber.com/events/details/live-stream-concert-third-coast-percussion-14303
END:VEVENT

END:VCALENDAR
