BEGIN:VCALENDAR
VERSION:2.0
PRODID:-//ChamberMaster//Event Calendar 2.0//EN
METHOD:PUBLISH
X-PUBLISHED-TTL:P3D
REFRESH-INTERVAL:P3D
CALSCALE:GREGORIAN
BEGIN:VEVENT
DTSTART;VALUE=DATE:20210201
DTEND;VALUE=DATE:20210213
TRANSP:TRANSPARENT
X-MICROSOFT-CDO-ALLDAYEVENT:TRUE
SUMMARY:Love Your Local Valentine's Day Market
DESCRIPTION:Treat someone you love including yourself this Valentine's Day! The Northcenter Chamber of Commerce is partnering with Bachalaash and local shops and restaurants to offer a convenient way to shop for the perfect Valentine's Day gift or dinner from the comfort of home.\n\nThe Love Your Local Valentine's Day Market features unique\, curated gifts\, treats\, meal kits & more from select Northcenter shops and restaurants. Through the convenient online market powered by Bachalaash\, Chicagoans can treat their favorite person to flowers\, a nice dinner\, beauty services or even beer and cookies! Market purchases help support Northcenter businesses at this critical time\, and support the Northcenter Chamber's programming and services.\n\nParticipating merchants in the Love Your Local Valentine's Day Market include:\n\n\n	Basant Chicago\n	Botanical Caf \n	Bottles & Cans\n	Burning Bush Brewery\n	Canna Bella Lux\n	Lizzy J Caf \n	L&M Fine Foods\n	Mi Fogata\n	Stella Grey Blooms\n	Toni's Hair Salon\n	Tuscan Hen Market\n\n\nLove Your Local Market will launch at northcenter.market on Monday\, February 1st. Guests can order products and services through Friday\, February 12th. Pickup at each merchants' location will be available February 11th-14th.
X-ALT-DESC;FMTTYPE=text/html:<p style="box-sizing: border-box\; margin: 20px 0px\; min-height: 1px\; font-size: 18px\; line-height: 26.4px\; color: rgb(0\, 0\, 0)\; font-family: proxima_nova\, &quot\;Open Sans&quot\;\, &quot\;Helvetica Neue&quot\;\, Helvetica\, Arial\, sans-serif\;"><span style="color:#000000\;">Treat someone you love&mdash\;including yourself&mdash\;this Valentine&#39\;s&nbsp\;Day! The Northcenter Chamber of Commerce is partnering with Bachalaash and local shops and restaurants to offer a convenient way to shop for the perfect Valentine&rsquo\;s Day gift or dinner from the comfort of home.</span></p>\n\n<p style="box-sizing: border-box\; margin: 20px 0px\; min-height: 1px\; font-size: 18px\; line-height: 26.4px\; color: rgb(0\, 0\, 0)\; font-family: proxima_nova\, &quot\;Open Sans&quot\;\, &quot\;Helvetica Neue&quot\;\, Helvetica\, Arial\, sans-serif\;"><span style="color:#000000\;">The Love Your Local Valentine&rsquo\;s Day Market features unique\, curated gifts\, treats\, meal kits &amp\; more from select Northcenter shops and restaurants. Through the convenient online market powered by Bachalaash\, Chicagoans can treat their favorite person to flowers\, a nice dinner\, beauty services or even beer and cookies! Market purchases help support Northcenter businesses at this critical time\, and support the Northcenter Chamber&#39\;s programming and services.</span></p>\n\n<p style="box-sizing: border-box\; margin: 20px 0px\; min-height: 1px\; font-size: 18px\; line-height: 26.4px\; color: rgb(0\, 0\, 0)\; font-family: proxima_nova\, &quot\;Open Sans&quot\;\, &quot\;Helvetica Neue&quot\;\, Helvetica\, Arial\, sans-serif\;"><span style="color:#000000\;"><strong style="box-sizing: border-box\; margin: 0px\;">Participating merchants in the Love Your Local Valentine&rsquo\;s Day Market include:</strong></span></p>\n\n<ul style="box-sizing: border-box\; margin: 0px\; padding-left: 16px\; padding-right: 16px\; color: rgb(0\, 0\, 0)\; font-family: proxima_nova\, &quot\;Open Sans&quot\;\, &quot\;Helvetica Neue&quot\;\, Helvetica\, Arial\, sans-serif\; font-size: 18px\;">\n	<li style="box-sizing: border-box\; margin: 8px 0px\;"><span style="color:#000000\;">Basant Chicago</span></li>\n	<li style="box-sizing: border-box\; margin: 8px 0px\;"><span style="color:#000000\;">Botanical Caf&eacute\;</span></li>\n	<li style="box-sizing: border-box\; margin: 8px 0px\;"><span style="color:#000000\;">Bottles &amp\; Cans</span></li>\n	<li style="box-sizing: border-box\; margin: 8px 0px\;"><span style="color:#000000\;">Burning Bush Brewery</span></li>\n	<li style="box-sizing: border-box\; margin: 8px 0px\;"><span style="color:#000000\;">Canna Bella Lux</span></li>\n	<li style="box-sizing: border-box\; margin: 8px 0px\;"><span style="color:#000000\;">Lizzy J Caf&eacute\;</span></li>\n	<li style="box-sizing: border-box\; margin: 8px 0px\;"><span style="color:#000000\;">L&amp\;M Fine Foods</span></li>\n	<li style="box-sizing: border-box\; margin: 8px 0px\;"><span style="color:#000000\;">Mi Fogata</span></li>\n	<li style="box-sizing: border-box\; margin: 8px 0px\;"><span style="color:#000000\;">Stella Grey Blooms</span></li>\n	<li style="box-sizing: border-box\; margin: 8px 0px\;"><span style="color:#000000\;">Toni&rsquo\;s Hair Salon</span></li>\n	<li style="box-sizing: border-box\; margin: 8px 0px\;"><span style="color:#000000\;">Tuscan Hen Market</span></li>\n</ul>\n\n<p style="box-sizing: border-box\; margin: 20px 0px\; min-height: 1px\; font-size: 18px\; line-height: 26.4px\; color: rgb(0\, 0\, 0)\; font-family: proxima_nova\, &quot\;Open Sans&quot\;\, &quot\;Helvetica Neue&quot\;\, Helvetica\, Arial\, sans-serif\;"><span style="color:#000000\;">Love Your Local Market will launch at&nbsp\;</span><a href="http://northcenter.market/" rel="nofollow" style="box-sizing: border-box\; margin: 20px 0px\; color: rgb(0\, 158\, 19)\; text-decoration-line: none\; font-size: 1.125rem\; line-height: 26.4px\;" target="_blank"><span style="color:#000000\;">northcenter.market</span></a><span style="color:#000000\;">&nbsp\;on Monday\, February 1st. Guests can order products and services through Friday\, February 12th. Pickup at each merchants&rsquo\; location will be available February 11th-14th.</span></p>\n
LOCATION:http://northcenter.market
UID:e.1775.16057
SEQUENCE:3
DTSTAMP:20260425T141144Z
URL:https://business.northcenterchamber.com/events/details/love-your-local-valentine-s-day-market-16057
END:VEVENT

END:VCALENDAR
