BEGIN:VCALENDAR
VERSION:2.0
PRODID:-//ChamberMaster//Event Calendar 2.0//EN
METHOD:PUBLISH
X-PUBLISHED-TTL:P3D
REFRESH-INTERVAL:P3D
CALSCALE:GREGORIAN
BEGIN:VEVENT
DTSTART:20211106T153000Z
DTEND:20211106T173000Z
X-MICROSOFT-CDO-ALLDAYEVENT:FALSE
SUMMARY:LVHS Virtual Open House
DESCRIPTION:Lake View High School Virtual Open House! Join us for an overview of our academics\, athletics\, clubs\, counseling and admissions. Perfect for all families considering the Wildcat Culture for their high school decision! Use web link below or check out our website at www.LakeViewHS.com
X-ALT-DESC;FMTTYPE=text/html:Lake View High School Virtual Open House! Join us for an overview of our academics\, athletics\, clubs\, counseling and admissions. Perfect for all families considering the Wildcat Culture for their high school decision! Use web link below or check out our website at www.LakeViewHS.com
LOCATION:Virtual www.lakeviewhs.com
UID:e.1775.16364
SEQUENCE:3
DTSTAMP:20260420T200302Z
URL:https://business.northcenterchamber.com/events/details/lvhs-virtual-open-house-16364
END:VEVENT

END:VCALENDAR
