BEGIN:VCALENDAR
VERSION:2.0
PRODID:-//ChamberMaster//Event Calendar 2.0//EN
METHOD:PUBLISH
X-PUBLISHED-TTL:P3D
REFRESH-INTERVAL:P3D
CALSCALE:GREGORIAN
BEGIN:VEVENT
DTSTART:20210508T003000Z
DTEND:20210508T013000Z
X-MICROSOFT-CDO-ALLDAYEVENT:FALSE
SUMMARY:Matter Dance Summer Dance Series
DESCRIPTION:Matter Dance Company invites you to join us on Friday\, May 7th at Northcenter Townsquare for our first show of 2021!!! We cannot wait to dance for you again but our priority is audience and dancer safety - so our show will be outdoors and socially distanced! Don't miss this show! AND ~ We are thrilled to be returning to Northcenter Townsquare on the first Fridays of June and July!
X-ALT-DESC;FMTTYPE=text/html:Matter Dance Company invites you to join us on Friday\, May 7th at Northcenter Townsquare for our first show of 2021!!! We cannot wait to dance for you again but our priority is audience and dancer safety - so our show will be outdoors and socially distanced! Don&rsquo\;t miss this show! AND ~ We are thrilled to be returning to Northcenter Townsquare on the first Fridays of June and July!
LOCATION:Northcenter Townsquare - Address: 4100 N Damen Ave.\, Chicago\, IL 60618
UID:e.1775.16117
SEQUENCE:3
DTSTAMP:20260421T064751Z
URL:https://business.northcenterchamber.com/events/details/matter-dance-summer-dance-series-16117
END:VEVENT

END:VCALENDAR
