BEGIN:VCALENDAR
VERSION:2.0
PRODID:-//ChamberMaster//Event Calendar 2.0//EN
METHOD:PUBLISH
X-PUBLISHED-TTL:P3D
REFRESH-INTERVAL:P3D
CALSCALE:GREGORIAN
BEGIN:VEVENT
DTSTART:20200505T140000Z
DTEND:20200505T150000Z
X-MICROSOFT-CDO-ALLDAYEVENT:FALSE
SUMMARY:Morning Mindfulness: Fun\, Feel-Good Yoga with Coconut Yoga
DESCRIPTION:Join Northcenter Chamber of Commerce for our Morning Mindfulness Virtual series.\n\n\n\nWake up & get your body moving with fun feel-good yoga presented by Coconut Yoga on Tuesday\, May 5th from 9:00-10:00am. We will send all pre-registered participants the playlist in advance to ensure you enjoy music while taking class.
X-ALT-DESC;FMTTYPE=text/html:Join Northcenter Chamber of Commerce for our Morning Mindfulness Virtual series.<br />\n<br />\nWake up &amp\; get your body moving with fun&nbsp\;feel-good yoga presented by Coconut Yoga on Tuesday\, May 5th from 9:00-10:00am. We will send all pre-registered participants the playlist in advance to ensure you enjoy music while taking class.\n<div>&nbsp\;</div>\n
LOCATION:Zoom Virtual Event
UID:e.1775.14275
SEQUENCE:3
DTSTAMP:20260426T034822Z
URL:https://business.northcenterchamber.com/events/details/morning-mindfulness-fun-feel-good-yoga-with-coconut-yoga-14275
END:VEVENT

END:VCALENDAR
