BEGIN:VCALENDAR
VERSION:2.0
PRODID:-//ChamberMaster//Event Calendar 2.0//EN
METHOD:PUBLISH
X-PUBLISHED-TTL:P3D
REFRESH-INTERVAL:P3D
CALSCALE:GREGORIAN
BEGIN:VEVENT
DTSTART:20200512T140000Z
DTEND:20200512T150000Z
X-MICROSOFT-CDO-ALLDAYEVENT:FALSE
SUMMARY:Morning Mindfulness: Pilates with Studio 8 Pilates
DESCRIPTION:Northcenter Chamber of Commerce's Morning Mindfulness Virtual Series:\n\n\n\nJoin Christine Hall\, pilates instructor and owner of Studio 8 Pilates for an all levels pilates mat class from the comfort of our own home! Christine has been teaching pilates since 2005 and opened Studio 8 in 2015. \n\n \n\nClass will begin with a warm-up and some fundamental movements and then we will dive into the more classical pilates exercises. Modifications for beginners and students post-injury will be offered.\n\n \n\nOnce you register\, a link for the zoom meeting will be sent the evening before the class. \n\nRegister here: https://us02web.zoom.us/meeting/register/tZEvfuysrjouGtLI_Cd-BZ7orxUafxgHkjiz
X-ALT-DESC;FMTTYPE=text/html:<div style="color: rgb(34\, 34\, 34)\; font-family: Arial\, Helvetica\, sans-serif\; font-size: small\;">\n<div>Northcenter Chamber of Commerce&#39\;s Morning Mindfulness Virtual Series:<br />\n<br />\nJoin Christine Hall\, pilates instructor and owner of Studio 8 Pilates for an all levels pilates mat class from the comfort of our own home! Christine has been teaching pilates since 2005 and opened Studio 8 in 2015.&nbsp\;</div>\n\n<div>&nbsp\;</div>\n\n<div>Class will begin with a warm-up and some fundamental movements and then we will dive into the more classical pilates exercises. Modifications for beginners and students post-injury will be offered.</div>\n\n<div>&nbsp\;</div>\n\n<div>Once you register\, a link for the zoom meeting will be sent the evening before the class.&nbsp\;<br />\nRegister here:&nbsp\;<a data-saferedirecturl="https://www.google.com/url?q=https://us02web.zoom.us/meeting/register/tZEvfuysrjouGtLI_Cd-BZ7orxUafxgHkjiz&amp\;source=gmail&amp\;ust=1588283685679000&amp\;usg=AFQjCNHySyyAlAjDBc71nx_mD_T81zIteQ" href="https://us02web.zoom.us/meeting/register/tZEvfuysrjouGtLI_Cd-BZ7orxUafxgHkjiz" style="color: rgb(14\, 113\, 235)\; background-image: initial\; background-position: initial\; background-size: initial\; background-repeat: initial\; background-origin: initial\; background-clip: initial\; box-sizing: border-box\; text-decoration-line: none\; font-family: Lato\, Helvetica\, Arial\; font-size: 14px\;" target="_blank">https://us02web.zoom.us/<wbr />meeting/register/<wbr />tZEvfuysrjouGtLI_Cd-<wbr />BZ7orxUafxgHkjiz</a></div>\n</div>\n
LOCATION:Zoom Virtual Event
UID:e.1775.14290
SEQUENCE:3
DTSTAMP:20260426T033837Z
URL:https://business.northcenterchamber.com/events/details/morning-mindfulness-pilates-with-studio-8-pilates-14290
END:VEVENT

END:VCALENDAR
