BEGIN:VCALENDAR
VERSION:2.0
PRODID:-//ChamberMaster//Event Calendar 2.0//EN
METHOD:PUBLISH
X-PUBLISHED-TTL:P3D
REFRESH-INTERVAL:P3D
CALSCALE:GREGORIAN
BEGIN:VEVENT
DTSTART:20220429T000000Z
DTEND:20220429T040000Z
X-MICROSOFT-CDO-ALLDAYEVENT:FALSE
SUMMARY:Neighborhood Nights
DESCRIPTION:Come enjoy a beverage with a spectacular view from our Skyline Lounge & Terrace. A perfect place to meet your neighbors and socialize.\n\n \n\nEach 2nd & 4th Thursday of the month from 7-11 PM. Proceeds support the DANK Haus Museum. Be sure to RSVP to let us know you will be there!\n\n \n\nAt this Neighborhood Nights\, stop by to learn more about our Friends of DANK Haus membership program!
X-ALT-DESC;FMTTYPE=text/html:<div>Come enjoy a beverage with a spectacular view from our Skyline Lounge &amp\; Terrace. A perfect place to meet your neighbors and socialize.<br />\n&nbsp\;</div>\n\n<div>Each 2nd &amp\; 4th Thursday of the month from 7-11 PM. Proceeds support the DANK Haus Museum. Be sure to RSVP to let us know you will be there!<br />\n&nbsp\;</div>\n\n<div>At this Neighborhood Nights\, stop by to learn more about our Friends of DANK Haus membership program!</div>\n
LOCATION:4740 N. Western Avenue Chicago\, IL 60625
UID:e.1775.16993
SEQUENCE:3
DTSTAMP:20260420T134729Z
URL:https://business.northcenterchamber.com/events/details/neighborhood-nights-04-28-2022-16993
END:VEVENT

END:VCALENDAR
