BEGIN:VCALENDAR
VERSION:2.0
PRODID:-//ChamberMaster//Event Calendar 2.0//EN
METHOD:PUBLISH
X-PUBLISHED-TTL:P3D
REFRESH-INTERVAL:P3D
CALSCALE:GREGORIAN
BEGIN:VEVENT
DTSTART:20220211T010000Z
DTEND:20220211T050000Z
X-MICROSOFT-CDO-ALLDAYEVENT:FALSE
SUMMARY:Neighborhood Nights
DESCRIPTION:Come enjoy a beverage with a spectacular view from our Skyline Lounge & Terrace. A perfect place to meet your neighbors and socialize. Each 2nd & 4th Thursday of the month from 7-11 PM. Proceeds support the DANK Haus Museum.
X-ALT-DESC;FMTTYPE=text/html:<span style="color:rgb(5\, 5\, 5)\; font-family:segoe ui historic\,segoe ui\,helvetica\,arial\,sans-serif\; font-size:15px">Come enjoy a beverage with a spectacular view from our Skyline Lounge &amp\; Terrace. A perfect place to meet your neighbors and socialize. Each 2nd &amp\; 4th Thursday of the month from 7-11 PM. Proceeds support the DANK Haus Museum.</span>
LOCATION:4740 N Western Ave. ?Chicago\, IL 60625
UID:e.1775.16390
SEQUENCE:3
DTSTAMP:20260420T153901Z
URL:https://business.northcenterchamber.com/events/details/neighborhood-nights-16390
END:VEVENT

END:VCALENDAR
