BEGIN:VCALENDAR
VERSION:2.0
PRODID:-//ChamberMaster//Event Calendar 2.0//EN
METHOD:PUBLISH
X-PUBLISHED-TTL:P3D
REFRESH-INTERVAL:P3D
CALSCALE:GREGORIAN
BEGIN:VEVENT
DTSTART;VALUE=DATE:20210701
DTEND;VALUE=DATE:20210801
TRANSP:TRANSPARENT
X-MICROSOFT-CDO-ALLDAYEVENT:TRUE
SUMMARY:Next Level German Classes - July 2021
DESCRIPTION:Register for one or more 4-week German classes.\n\n\n	Grammar Review Beginner (Mondays 6:30-8pm)\n\n\n\n	\n	\n		July 5 - July 26: review grammar and bring your grammar questions to class\n		for learners at Beginner III+IV/ A2 Level\n	\n	\n\n\n\n\n	Book Club (Tuesdays 6:30-8pm)\n\n\n\n\n	Fictional German\n	\n	\n		July 6 - July 27: read and discuss Gabi Baier's "Verschollen in Berlin"\n		Order your e-book here\, or a hard copy here\n		for learners at Beginner IV/ A2.2 Level\n	\n	\n\n\n\n\n	Konversation Intermediate (Wednesdays 6:30-8pm)\n\n\n\n\n\n	Conversational German for Intermediate Speakers\n\n	\n		\n		\n			July 7 - July 28: Practice your German in a conversational setting\n			for learners at Intermediate/B1+B2 Level\n		\n		\n	\n	\n\n\n\n\n\n	Konversation Proficient (Thursdays 6:30-8pm)\n\n\n\n\n	Conversational German for Proficient Speakers\n\n	\n		\n		\n			July 8 - July 29: Practice your German in a conversational setting\n			for learners at Proficient/C1+C2 Level\n		\n		\n	\n	\n	 \n	Can't make up your mind? Up for a challenge?\n\n\n\n	Surprise Me (6:30-8pm on either Monday\, Tuesday\, Wednesday or Thursday)\n	\n	\n		Select "Surprise Me" during registration and we will randomly select a class for you (let us know your Level during registration)!\n		Select either June classes or July classes\, or both.\n		This selection comes with a special price!\n	\n\n	 \n	\n\n\n**** Payment must be received within 15 minutes of registration to avoid cancelling your enrollment. Please contact languageschool@dankhaus.com with any questions.
X-ALT-DESC;FMTTYPE=text/html:<p>Register for one or more 4-week German classes.</p>\n\n<ul>\n	<li><strong>Grammar Review Beginner (Mondays 6:30-8pm)</strong></li>\n</ul>\n\n<ul>\n	<li>\n	<ul>\n		<li>July 5 - July 26: review grammar and bring your grammar questions to class</li>\n		<li>for learners at Beginner III+IV/ A2 Level</li>\n	</ul>\n	</li>\n</ul>\n\n<div>\n<ul>\n	<li><strong>Book Club (Tuesdays</strong>&nbsp\;<strong>6:30-8pm)</strong></li>\n</ul>\n</div>\n\n<ul>\n	<li><em>Fictional German</em></li>\n	<li>\n	<ul>\n		<li>July 6 - July 27: read and discuss Gabi Baier&#39\;s &quot\;Verschollen in Berlin&quot\;</li>\n		<li>Order your&nbsp\;<a class="linkAlternative" href="https://www.klett-usa.com/verschollen-in-berlin/t-2188/NP00855603501" style="color: rgb(54\, 175\, 240)\; font-weight: bold\;" target="_blank">e-book here</a>\, or a&nbsp\;<a class="linkAlternative" href="https://www.klett-usa.com/verschollen-in-berlin/t-2941/9783125560352" style="color: rgb(54\, 175\, 240)\; font-weight: bold\;" target="_blank">hard copy here</a></li>\n		<li>for learners at Beginner IV/ A2.2 Level</li>\n	</ul>\n	</li>\n</ul>\n\n<div>\n<ul>\n	<li><strong>Konversation Intermediate (Wednesdays</strong>&nbsp\;<strong>6:30-8pm)</strong></li>\n</ul>\n</div>\n\n<div>\n<ul>\n	<li><em>Conversational German for Intermediate Speakers</em>\n\n	<ul>\n		<li>\n		<ul>\n			<li>July 7 - July 28: Practice your German in a conversational setting</li>\n			<li>for learners at Intermediate/B1+B2 Level</li>\n		</ul>\n		</li>\n	</ul>\n	</li>\n</ul>\n</div>\n\n<div>\n<ul>\n	<li><strong>Konversation Proficient (Thursdays</strong>&nbsp\;<strong>6:30-8pm)</strong></li>\n</ul>\n</div>\n\n<ul>\n	<li><em>Conversational German for Proficient Speakers</em>\n\n	<ul>\n		<li>\n		<ul>\n			<li>July 8 - July 29: Practice your German in a conversational setting</li>\n			<li>for learners at Proficient/C1+C2 Level</li>\n		</ul>\n		</li>\n	</ul>\n	</li>\n	<li>&nbsp\;</li>\n	<li><strong>Can&#39\;t make up your mind? Up for a challenge?</strong></li>\n</ul>\n\n<ul>\n	<li><strong>Surprise Me (6:30-8pm on either Monday\, Tuesday\, Wednesday or Thursday)</strong></li>\n	<li>\n	<ul>\n		<li>Select &quot\;Surprise Me&quot\; during registration and we will randomly select a class for you (let us know your Level during registration)!</li>\n		<li>Select either June classes or July classes\, or both.</li>\n		<li>This selection comes with a special price!</li>\n	</ul>\n\n	<p>&nbsp\;</p>\n	</li>\n</ul>\n\n<div><strong><strong>*</strong><strong>*</strong><strong>*</strong><strong>*&nbsp\;</strong></strong>Payment must be received within 15 minutes of registration to avoid cancelling your enrollment. Please contact&nbsp\;<a href="mailto:languageschool@dankhaus.com" style="color: rgb(23\, 144\, 209)\;" target="_blank">languageschool@dankhaus.com</a>&nbsp\;with any questions.</div>\n
LOCATION:Online via Zoom
UID:e.1775.16308
SEQUENCE:3
DTSTAMP:20260421T030011Z
URL:https://business.northcenterchamber.com/events/details/next-level-german-classes-july-2021-16308
END:VEVENT

END:VCALENDAR
