BEGIN:VCALENDAR
VERSION:2.0
PRODID:-//ChamberMaster//Event Calendar 2.0//EN
METHOD:PUBLISH
X-PUBLISHED-TTL:P3D
REFRESH-INTERVAL:P3D
CALSCALE:GREGORIAN
BEGIN:VEVENT
DTSTART:20220226T150000Z
DTEND:20220226T180000Z
X-MICROSOFT-CDO-ALLDAYEVENT:FALSE
SUMMARY:NNA Recycling Pop-up
DESCRIPTION:NNA's Recycling Pop-Up is popping up again on Saturday\, Feb. 26\, from 9 a.m.-Noon in the basement of St. Ben's Beaven Hall\, 2219 Irving Park Rd. (entrance in rear of the building via Bell Ave.). Check out our list of more than 70 accepted items and how to drop them off. For more info visit: https://northcenterneighborhood.org/recycling-popup Volunteer to help: https://www.signupgenius.com/go/60b044fa5ad29a0fb6-nnarecycling
X-ALT-DESC;FMTTYPE=text/html:NNA&#39\;s Recycling Pop-Up is popping up again on Saturday\, Feb. 26\, from 9 a.m.-Noon in the basement of St. Ben&#39\;s Beaven Hall\, 2219 Irving Park Rd. (entrance in rear of the building via Bell Ave.). Check out our list of more than 70 accepted items and how to drop them off. For more info visit: https://northcenterneighborhood.org/recycling-popup Volunteer to help: https://www.signupgenius.com/go/60b044fa5ad29a0fb6-nnarecycling
LOCATION:St. Ben's Beaven Hall 2219 W. Irving Park Road
UID:e.1775.16395
SEQUENCE:3
DTSTAMP:20260420T171749Z
URL:https://business.northcenterchamber.com/events/details/nna-recycling-pop-up-02-26-2022-16395
END:VEVENT

END:VCALENDAR
