BEGIN:VCALENDAR
VERSION:2.0
PRODID:-//ChamberMaster//Event Calendar 2.0//EN
METHOD:PUBLISH
X-PUBLISHED-TTL:P3D
REFRESH-INTERVAL:P3D
CALSCALE:GREGORIAN
BEGIN:VEVENT
DTSTART:20210515T140000Z
DTEND:20210515T170000Z
X-MICROSOFT-CDO-ALLDAYEVENT:FALSE
SUMMARY:NNA Recycling Pop-up
DESCRIPTION:Do you have items you'd like to recycle but you can't put them in your blue bin? NNA is hosting another Recycling Pop-up for some common household items. We can't accept everything Chicago won't\, so check our website for the list of accepted items.
X-ALT-DESC;FMTTYPE=text/html:Do you have items you&rsquo\;d like to recycle but you can&rsquo\;t put them in your blue bin? NNA is hosting another Recycling Pop-up for some common household items. We can&rsquo\;t accept everything Chicago won&rsquo\;t\, so <a href="https://www.northcenterneighborhood.org/recycling-popup">check our website</a> for the list of accepted items.
LOCATION:Northcenter Town Square 4100 N Damen Ave.
UID:e.1775.16253
SEQUENCE:3
DTSTAMP:20260421T064653Z
URL:https://business.northcenterchamber.com/events/details/nna-recycling-pop-up-16253
END:VEVENT

END:VCALENDAR
