BEGIN:VCALENDAR
VERSION:2.0
PRODID:-//ChamberMaster//Event Calendar 2.0//EN
METHOD:PUBLISH
X-PUBLISHED-TTL:P3D
REFRESH-INTERVAL:P3D
CALSCALE:GREGORIAN
BEGIN:VEVENT
DTSTART:20220310T000000Z
DTEND:20220310T020000Z
X-MICROSOFT-CDO-ALLDAYEVENT:FALSE
SUMMARY:North/ Northwest Side Community Safety Town Hall (Virtual)
DESCRIPTION:From the Mayor's Office of Community Engagement:\n\n \n\n\n"We would like to invite you to participate in our regional Community Safety Town Halls occurring over the next few weeks. Attached you will find flyers with registration and further details. You may register for the Town Hall in your region here: https://bit.ly/CommunitySafetyTownHalls. If you have any questions\, please send them to communityengagement@cityofchicago.org."
X-ALT-DESC;FMTTYPE=text/html:<div style="color: rgb(34\, 34\, 34)\; font-family: Arial\, Helvetica\, sans-serif\; font-size: small\;">\n<p style="margin: 0in\; font-size: 11pt\; font-family: Calibri\, sans-serif\;">From the Mayor&rsquo\;s Office of Community Engagement:</p>\n\n<p style="margin: 0in\; font-size: 11pt\; font-family: Calibri\, sans-serif\;">&nbsp\;</p>\n</div>\n\n<div style="color: rgb(34\, 34\, 34)\; font-family: Arial\, Helvetica\, sans-serif\; font-size: small\;"><span style="font-family: Calibri\, sans-serif\; font-size: 14.6667px\;">&quot\;We would like to invite you to participate in our regional Community Safety Town Halls occurring over the next few weeks. Attached you will find flyers with registration and further details. You may register for the Town Hall in your region here:&nbsp\;</span><a data-saferedirecturl="https://www.google.com/url?q=https://bit.ly/CommunitySafetyTownHalls&amp\;source=gmail&amp\;ust=1646499169008000&amp\;usg=AOvVaw1uKsT5rF5REJbEWxex9Cbk" href="https://bit.ly/CommunitySafetyTownHalls" style="color: rgb(17\, 85\, 204)\; font-family: Calibri\, sans-serif\; font-size: 14.6667px\;" target="_blank">https://bit.ly/<wbr />CommunitySafetyTownHalls</a><span style="font-family: Calibri\, sans-serif\; font-size: 14.6667px\;">. If you have any questions\, please send them to&nbsp\;</span><a href="mailto:communityengagement@cityofchicago.org" style="color: rgb(17\, 85\, 204)\; font-family: Calibri\, sans-serif\; font-size: 14.6667px\;" target="_blank">communityengagement@<wbr />cityofchicago.org</a><span style="font-family: Calibri\, sans-serif\; font-size: 14.6667px\;">.&quot\;</span></div>\n\n<div>&nbsp\;</div>\n
LOCATION:Register here: https://bit.ly/CommunitySafetyTownHalls
UID:e.1775.16832
SEQUENCE:3
DTSTAMP:20260420T134453Z
URL:https://business.northcenterchamber.com/events/details/north-northwest-side-community-safety-town-hall-virtual-16832
END:VEVENT

END:VCALENDAR
