BEGIN:VCALENDAR
VERSION:2.0
PRODID:-//ChamberMaster//Event Calendar 2.0//EN
METHOD:PUBLISH
X-PUBLISHED-TTL:P3D
REFRESH-INTERVAL:P3D
CALSCALE:GREGORIAN
BEGIN:VEVENT
DTSTART:20211210T000000Z
DTEND:20211210T020000Z
X-MICROSOFT-CDO-ALLDAYEVENT:FALSE
SUMMARY:Northcenter Chamber Holiday Party 2021
DESCRIPTION:It's that time of year again. There's a chill in the air\, trees and homes are glowing with lights and the whole neighborhood is getting in the spirit of the season. It also means it's time for the Northcenter Chamber's annual holiday party! \n\n\n\nCome Toast the New Year with us at ROCKS Northcenter. Wear your favorite ugly holiday sweater or mask\, and enjoy a few drinks and cheer with fellow members! Hope to see you there! \n\n\n\nRegister above by Dec 6!
X-ALT-DESC;FMTTYPE=text/html:<div _mce_style="font-family: Arial\, Helvetica\, sans-serif\; font-size: 10pt\; color: #666666\; margin: 0px\; background-color: #ffffff\;" style="line-height: normal\; font-family: Arial\, Helvetica\, sans-serif\; font-size: 10pt\; color: rgb(102\, 102\, 102)\; margin: 0px\;" styleclass=" style_body"><span style="font-size:18px\;"><span style="color:#008000\;">It&#39\;s that time of year again. There&#39\;s a chill in the air\, trees and homes are glowing with lights and the whole neighborhood is getting in the spirit of the season. It also means it&#39\;s time for the Northcenter Chamber&#39\;s annual holiday party!&nbsp\;<br />\n<br />\nCome Toast the New Year with us at ROCKS Northcenter. Wear your favorite ugly holiday sweater or mask\, and enjoy a few drinks and cheer with fellow members!&nbsp\;</span></span><span style="font-size:18px\;"><span style="color:#008000\;">Hope to see you there!&nbsp\;<br />\n<br />\nRegister above&nbsp\;by Dec 6!</span></span></div>\n
LOCATION:ROCKS Northcenter 4138 N Lincoln Ave.
UID:e.1775.16366
SEQUENCE:3
DTSTAMP:20260420T200602Z
URL:https://business.northcenterchamber.com/events/details/northcenter-chamber-holiday-party-2021-16366
END:VEVENT

END:VCALENDAR
