BEGIN:VCALENDAR
VERSION:2.0
PRODID:-//ChamberMaster//Event Calendar 2.0//EN
METHOD:PUBLISH
X-PUBLISHED-TTL:P3D
REFRESH-INTERVAL:P3D
CALSCALE:GREGORIAN
BEGIN:VEVENT
DTSTART:20200912T120000Z
DTEND:20200912T180000Z
X-MICROSOFT-CDO-ALLDAYEVENT:FALSE
SUMMARY:Northcenter Farmers Market 2020
DESCRIPTION:The Northcenter Farmers Market is one of the oldest markets on the North Side. Our vendor base is growing\, and we want you\, our neighbors to take advantage of this! Farmers and local merchants will set up and offer their freshest fruits\, vegetables\, flowers\, pastries and other homemade products for sale.\n\n\n\nJoin us this summer at the Northcenter Farmers Market starting Saturday\, June 20th! Lots of renewing vendors and a few new ones too! \n\n\n\nWe know the Farmers Market will be a little different this year\, but what hasn't changed is our commitment to helping bring fresh\, local food to our neighborhood. The health and safety of our vendors and guests is our top priority\, stay tuned for market guidelines.\n\n\n\n\n\n2020 Confirmed Vendor List**:\n\nBroken K Ranch\n\nBeef\, chicken\, eggs\n\n \n\nChicago Marshmallow\n\nGourmet marshmallows - Visit Laura's booth on June 20 & 27\, October 3\, 17\, 24 & 31\n\n \n\nJohn Bailey Honey\n\nHoney\, jams\, jellies\, garlic and okra \n\n \n\nLa Provence Bakery\n\nFrench breads\, croissants and pastries\n\n \n\nLiz Madsen Farms\n\nFresh vegetables and melons\n\n \n\nJourney: One Bar at a Time\n\nHandmade vegan soaps\, handmade face masks\, and whipped shea butter moisturizer for hair & body - Visit Misala's booth on June 27\n\n \n\nNoffke Family Farms\n\nFresh fruits\, vegetables and flowers\n\n \n\nNutMeg's Spreads\n\nNut butters and spreads - Visit Megan's booth on July 18\, August 22\, and September 5\n\n \n\nStamper Cheese Company\n\nArtisanal cheeses\n\n \n\nTamales Express\n\nTamales and vegan/GF pastries\n\n\n\nHilary's Cookies\n\nScones\, cookies\, and more!\n\n\n\n**This information is subject to change. Stay tuned for updates on our Northcenter Farmers Market Facebook page. Follow our vendors too!
X-ALT-DESC;FMTTYPE=text/html:<span style="font-family: arial\, sans-serif\;"><span style="font-size: 10.5pt\;">The&nbsp\;<a href="https://www.northcenterchamber.com/northcenter-farmers-market"><strong>Northcenter</strong></a><strong><a href="https://www.northcenterchamber.com/northcenter-farmers-market">&nbsp\;Farmers Market</a>&nbsp\;</strong>is one of the oldest markets on the North Side. Our vendor base is growing\, and we want you\, our neighbors to take advantage of this!&nbsp\;Farmers and local merchants will set up and offer their freshest fruits\, vegetables\, flowers\, pastries and other homemade products for sale.</span></span><br />\n<br />\n<span style="color: rgb(29\, 33\, 41)\;"><span style="font-family: arial\, sans-serif\;"><span style="font-size: 10.5pt\;">Join us this summer at the Northcenter Farmers Market starting Saturday\, June 20th! Lots of renewing vendors and a few new ones too!&nbsp\;</span></span></span><br />\n<br />\n<span style="color: rgb(29\, 33\, 41)\;"><span style="font-family: arial\, sans-serif\;"><span style="font-size: 10.5pt\;">We know the Farmers Market will be a little different this year\, but what hasn&rsquo\;t changed is our commitment to helping bring fresh\, local food to our neighborhood. The health and safety of our vendors and guests is our top priority\, stay tuned for market guidelines.</span></span></span><br />\n<br />\n<br />\n<u><span style="font-family: arial\, sans-serif\;"><span style="font-size: 10.5pt\;">2020 Confirmed Vendor List**:</span></span></u><br />\n<span style="font-size: 10pt\;"><a href="https://www.facebook.com/brokenkranch/"><strong><span style="font-family: arial\, sans-serif\;"><span style="font-size: 10.5pt\;">Broken K Ranch</span></span></strong></a></span><br />\n<span style="font-family: arial\, sans-serif\;"><span style="font-size: 10.5pt\;">Beef\, chicken\, eggs</span></span><br />\n&nbsp\;<br />\n<span style="font-size: 10pt\;"><a href="http://www.chicagomarshmallow.com/#/"><strong><span style="font-family: arial\, sans-serif\;"><span style="font-size: 10.5pt\;">Chicago Marshmallow</span></span></strong></a></span><br />\n<span style="font-family: arial\, sans-serif\;"><span style="font-size: 10.5pt\;">Gourmet marshmallows -&nbsp\;<em>Visit Laura&#39\;s booth on June 20 &amp\; 27\, October 3\, 17\, 24 &amp\; 31</em></span></span><br />\n&nbsp\;<br />\n<span style="font-size: 10pt\;"><a href="https://www.facebook.com/JohnBaileyHoney/"><strong><span style="font-family: arial\, sans-serif\;"><span style="font-size: 10.5pt\;">John Bailey Honey</span></span></strong></a></span><br />\n<span style="font-family: arial\, sans-serif\;"><span style="font-size: 10.5pt\;">Honey\, jams\, jellies\, garlic and okra&nbsp\;</span></span><br />\n&nbsp\;<br />\n<strong><span style="font-family: arial\, sans-serif\;"><span style="font-size: 10.5pt\;">La Provence Bakery</span></span></strong><br />\n<span style="font-family: arial\, sans-serif\;"><span style="font-size: 10.5pt\;">French breads\, croissants and pastries</span></span><br />\n&nbsp\;<br />\n<strong><span style="font-family: arial\, sans-serif\;"><span style="font-size: 10.5pt\;">Liz Madsen Farms</span></span></strong><br />\n<span style="font-family: arial\, sans-serif\;"><span style="font-size: 10.5pt\;">Fresh vegetables and melons</span></span><br />\n&nbsp\;<br />\n<a href="https://www.etsy.com/shop/JourneyOneBarAtATime"><strong><u><span style="font-family: arial\, sans-serif\;"><span style="font-size: 10.5pt\;">Journey: One Bar at a Time</span></span></u></strong></a><br />\n<span style="font-family: arial\, sans-serif\;"><span style="font-size: 10.5pt\;">Handmade vegan soaps\, handmade face masks\, and whipped shea butter moisturizer for hair &amp\; body -&nbsp\;<em>Visit Misala&rsquo\;s booth on June 27</em></span></span><br />\n&nbsp\;<br />\n<a href="https://www.facebook.com/Noffke-Family-Farms-North-Center-Farmers-Market-919670354810804/"><strong><u><span style="font-family: arial\, sans-serif\;"><span style="font-size: 10.5pt\;">Noffke Family Farms</span></span></u></strong></a><br />\n<span style="font-family: arial\, sans-serif\;"><span style="font-size: 10.5pt\;">Fresh fruits\, vegetables and flowers</span></span><br />\n&nbsp\;<br />\n<strong><span style="font-family: arial\, sans-serif\;"><span style="font-size: 10.5pt\;"><a href="https://www.facebook.com/nutmegsspreads/">NutMeg&#39\;s Spreads</a></span></span></strong><br />\n<span style="font-family: arial\, sans-serif\;"><span style="font-size: 10.5pt\;">Nut butters and spreads -&nbsp\;<em>Visit Megan&#39\;s booth on July 18\, August 22\, and September 5</em></span></span><br />\n&nbsp\;<br />\n<span style="font-size: 10pt\;"><a href="https://www.facebook.com/Stamper-Cheese-Company-212254005468303/"><strong><span style="font-family: arial\, sans-serif\;"><span style="font-size: 10.5pt\;">Stamper Cheese Company</span></span></strong></a></span><br />\n<span style="font-family: arial\, sans-serif\;"><span style="font-size: 10.5pt\;">Artisanal cheeses</span></span><br />\n&nbsp\;<br />\n<span style="font-size: 10pt\;"><a href="https://www.facebook.com/TamalesExpressChicago/"><strong><span style="font-family: arial\, sans-serif\;"><span style="font-size: 10.5pt\;">Tamales Express</span></span></strong></a></span><br />\n<span style="font-family: arial\, sans-serif\;"><span style="font-size: 10.5pt\;">Tamales and vegan/GF pastries</span></span><br />\n<br />\n<a href="https://www.facebook.com/Hilarys-Cookies-214800245202114/"><font face="arial\, sans-serif"><span style="font-size: 14px\;"><b>Hilary&#39\;s Cookies</b></span></font></a><br />\n<font face="arial\, sans-serif"><span style="font-size: 14px\;">Scones\, cookies\, and more!</span></font><br />\n<br />\n<span style="font-family: arial\, sans-serif\;"><span style="font-size: 10.5pt\;">**This information is subject to change. Stay tuned for updates on our&nbsp\;<a href="https://www.facebook.com/NorthcenterFarmersMarket">Northcenter Farmers Market Facebook</a>&nbsp\;page.&nbsp\;Follow our vendors too!</span></span>
LOCATION:Northcenter Town Square 4100 N Damen Ave. One way entry at Damen One way exit at Lincoln
UID:e.1775.14431
SEQUENCE:3
DTSTAMP:20260425T224032Z
URL:https://business.northcenterchamber.com/events/details/northcenter-farmers-market-2020-09-12-2020-14431
END:VEVENT

END:VCALENDAR
