BEGIN:VCALENDAR
VERSION:2.0
PRODID:-//ChamberMaster//Event Calendar 2.0//EN
METHOD:PUBLISH
X-PUBLISHED-TTL:P3D
REFRESH-INTERVAL:P3D
CALSCALE:GREGORIAN
BEGIN:VEVENT
DTSTART:20210919T160000Z
DTEND:20210920T020000Z
X-MICROSOFT-CDO-ALLDAYEVENT:FALSE
SUMMARY:Northcenter Homecoming Festival 2021
DESCRIPTION:After over a year inside\, we're throwing a Homecoming celebration showcasing the best of Northcenter!\n\n\n\nOn the weekend of September 18th & 19th\, join us in Northcenter Town Square for Northcenter Homecoming\, a celebration featuring live music\, delicious food & craft beer\, & community.\n\n\n\nVisit www.nchomecoming.com for details! \n\n\n\nEntertainment Lineup: \nSaturday: \n\n12-2 PM CHIRP Radio DJs\n\n4 PM - Performers from LYRIQ Music School\n\n6 PM - Musicians from The Voice Lab Community\n\n8 PM - LYON$ \n\n \n\nSunday: \n\n11 AM - Furious Frank\n\n12-2 PM CHIRP Radio DJs\n\n3 PM - Big Fans\n\n5 PM - Original Big Shoulders Jazz Band\n\n7 PM - The Black Oil Brothers
X-ALT-DESC;FMTTYPE=text/html:<span style="font-family:arial\;"><span style="color: rgb(32\, 33\, 36)\; font-size: 14px\; letter-spacing: 0.2px\;">After over a year inside\, we&#39\;re throwing a&nbsp\;</span><span class="il" style="color: rgb(32\, 33\, 36)\; font-size: 14px\; letter-spacing: 0.2px\;">Homecoming</span><span style="color: rgb(32\, 33\, 36)\; font-size: 14px\; letter-spacing: 0.2px\;">&nbsp\;celebration showcasing the best of Northcenter!<br />\n<br />\nOn the weekend of September 18th &amp\; 19th\, join us in Northcenter Town Square for Northcenter&nbsp\;</span><span class="il" style="color: rgb(32\, 33\, 36)\; font-size: 14px\; letter-spacing: 0.2px\;">Homecoming</span><span style="color: rgb(32\, 33\, 36)\; font-size: 14px\; letter-spacing: 0.2px\;">\, a celebration featuring live music\, delicious food &amp\; craft beer\, &amp\; community.<br />\n<br />\nVisit <a href="http://www.nchomecoming.com">www.nchomecoming.com&nbsp\;</a>for details!&nbsp\;<br />\n<br />\nEntertainment Lineup:&nbsp\;</span></span>\n<div style="color: rgb(34\, 34\, 34)\; font-family: Arial\, Helvetica\, sans-serif\; font-size: small\;">Saturday:&nbsp\;</div>\n\n<div style="color: rgb(34\, 34\, 34)\; font-family: Arial\, Helvetica\, sans-serif\; font-size: small\;">12-2 PM CHIRP Radio DJs</div>\n\n<div style="color: rgb(34\, 34\, 34)\; font-family: Arial\, Helvetica\, sans-serif\; font-size: small\;">4 PM - Performers from LYRIQ Music School</div>\n\n<div style="color: rgb(34\, 34\, 34)\; font-family: Arial\, Helvetica\, sans-serif\; font-size: small\;"><span style="font-size: 10pt\; font-family: Arial\;">6 PM - Musicians from The Voice Lab Community<br />\n8 PM - LYON$&nbsp\;</span></div>\n\n<div style="color: rgb(34\, 34\, 34)\; font-family: Arial\, Helvetica\, sans-serif\; font-size: small\;">&nbsp\;</div>\n\n<div style="color: rgb(34\, 34\, 34)\; font-family: Arial\, Helvetica\, sans-serif\; font-size: small\;"><span style="font-size: 10pt\; font-family: Arial\;">Sunday:&nbsp\;<br />\n11 AM - Furious Frank</span></div>\n\n<div style="color: rgb(34\, 34\, 34)\; font-family: Arial\, Helvetica\, sans-serif\; font-size: small\;"><span style="font-size: 10pt\; font-family: Arial\;">12-2 PM CHIRP Radio DJs</span></div>\n\n<div style="color: rgb(34\, 34\, 34)\; font-family: Arial\, Helvetica\, sans-serif\; font-size: small\;"><font face="Arial"><span style="font-size: 13.3333px\;">3 PM - Big Fans</span></font></div>\n\n<div style="color: rgb(34\, 34\, 34)\; font-family: Arial\, Helvetica\, sans-serif\; font-size: small\;"><span style="color: rgb(0\, 0\, 0)\; font-family: Arial\; font-size: 13px\; white-space: pre-wrap\;">5 PM - Original Big Shoulders Jazz Band</span>\n\n<div>7 PM - The Black Oil Brothers</div>\n</div>\n
LOCATION:Northcenter Town Square 4100 N Damen Ave
UID:e.1775.16351
SEQUENCE:3
DTSTAMP:20260421T011745Z
URL:https://business.northcenterchamber.com/events/details/northcenter-homecoming-festival-2021-16351
END:VEVENT

END:VCALENDAR
