BEGIN:VCALENDAR
VERSION:2.0
PRODID:-//ChamberMaster//Event Calendar 2.0//EN
METHOD:PUBLISH
X-PUBLISHED-TTL:P3D
REFRESH-INTERVAL:P3D
CALSCALE:GREGORIAN
BEGIN:VEVENT
DTSTART:20200620T000000Z
DTEND:20200620T013000Z
X-MICROSOFT-CDO-ALLDAYEVENT:FALSE
SUMMARY:Northcenter Pairings Happy Hour
DESCRIPTION:Kick off the weekend with a special virtual happy hour celebration from the Northcenter Chamber\, Bottles & Cans and L&M Fine Foods. Our two partners have put together a fabulous curated beer and cheese tasting combination for you to enjoy and learn all about cheese\, beer and the art of pairing.\n\n\n\nAs you taste\, Carly Katz from Bottles & Cans will walk you through the beers and Kellie Freemire of L&M will share her cheese expertise. Enjoy with friends\,  as a date night or just as a treat-yourself! We hope you'll join us. \n\n\n\nPre-Order & Pick-Up: By registering you have pre-ordered for one cheese tasting plate and one 6 pack of pre-selected tasting beer pack per ticket. Pick up begins on Wednesday\, June 17th from our member businesses:\n\n\n\nBottles and Cans is located at 4109 N. Lincoln Ave.\n\nPick-up Hours: Wed - Fri from 11am - 9pm\n\n\n\nL&M Fine Foods is located at 4363 N. Lincoln Ave.\n\nPick -up Hours: Wed - Fri from 8am - 7pm\n\n\n\nPlease leave in the comments which day you plan to pick up your orders\, thanks!
X-ALT-DESC;FMTTYPE=text/html:<span style="font-size:12px\;"><span style="font-size:14px\;">Kick off the weekend with a special virtual happy hour celebration from the Northcenter Chamber\, Bottles &amp\; Cans and L&amp\;M Fine Foods. Our two partners have put together a fabulous curated beer and cheese tasting combination for you to enjoy and learn all about cheese\, beer and the art of pairing.<br />\n<br />\nAs you taste\, Carly Katz from Bottles &amp\; Cans will walk you through the beers and Kellie Freemire of L&amp\;M will share her cheese expertise. Enjoy with friends\,&nbsp\; as a date night or just as a treat-yourself! We hope you&#39\;ll join us.&nbsp\;<br />\n<br />\nPre-Order &amp\; Pick-Up: By registering you have pre-ordered for one cheese tasting plate and one 6 pack of pre-selected tasting beer pack per ticket. Pick up begins on Wednesday\, June 17th&nbsp\;from our member businesses:<br />\n<br />\n<a href="https://www.bottlesandcanschicago.com/">Bottles and Cans</a>&nbsp\;is located at&nbsp\;<span style="color: rgb(34\, 34\, 34)\; font-family: Roboto\, arial\, sans-serif\;">4109 N. Lincoln Ave.</span><br />\nPick-up Hours: Wed - Fri from 11am - 9pm<br />\n<br />\n<span data-sheets-userformat="{" data-sheets-value="{" fine="" m="" style="color: rgb(0\, 0\, 0)\; font-family: Arial\;"><a href="https://www.lmfinefoods.com/">L&amp\;M Fine Foods</a>&nbsp\;is&nbsp\;located at&nbsp\;</span></span><span style="color: rgb(34\, 34\, 34)\; font-family: Roboto\, arial\, sans-serif\;"><span style="font-size:14px\;">4363 N. Lincoln Ave.<br />\nPick -up Hours: Wed - Fri from 8am - 7pm</span><br />\n<br />\n<span style="font-size:14px\;">Please leave in the comments which day you plan to pick up your orders\, thanks!</span></span></span>
LOCATION:via Zoom\, link will be sent to registrants the day of the event
UID:e.1775.14408
SEQUENCE:3
DTSTAMP:20260426T015433Z
URL:https://business.northcenterchamber.com/events/details/northcenter-pairings-happy-hour-14408
END:VEVENT

END:VCALENDAR
