BEGIN:VCALENDAR
VERSION:2.0
PRODID:-//ChamberMaster//Event Calendar 2.0//EN
METHOD:PUBLISH
X-PUBLISHED-TTL:P3D
REFRESH-INTERVAL:P3D
CALSCALE:GREGORIAN
BEGIN:VEVENT
DTSTART:20200723T000000Z
DTEND:20200723T020000Z
X-MICROSOFT-CDO-ALLDAYEVENT:FALSE
SUMMARY:Northcenter's Summer Spectacular 2020!
DESCRIPTION:Northcenter's (Virtual) Summer Spectacular\n\n\n\nA socially distanced summer doesn't have to be a bummer! We're bringing our favorite summer tradition into your homes with our virtual Summer Spectacular! On Wednesday nights beginning July 8th\, enjoy great musical performances\, local comedy & theatre and much more! \n\n\n\nJuly 22nd - Music with The Black Oil Brothers\n\nOrder takeout from our partner restaurant Cobblestone Restaurant \n\n\n\nCobblestone Menu for Wednesday\, July 22nd:\n\n\nStarters  \nPork Belly Small Bites          $6\n\nSweet pepper jelly\, dried dates\, and goat cheese \n\nServed on top of a baguette crostini \n\n \n\nVeggie Small Bites               $6\n\nFire roasted red peppers\, herbed yogurt sauce \n\ncucumber and dill on top of a baguette crostini\n\n \n\nSmall Plates \n\nEggplant Bruschetta             $13\n\nGrilled rounds of eggplant served with fresh \n\ntomato and basil bruschetta \n\n \n\nSpicy Pineapple Tart            $11\n\nFlaky puff pastry filled with brown sugar glazed \n\npineapple and prosciutto ham \n\n \n\nSoup and salad\n\nWatermelon Gazpacho        $8\n\nFresh watermelon\, cucumbers\, tomato\, jalapeno\n\nlime juice \; served chilled \n\n \n\nMaple Carrot Salad              $11\n\nRoasted Carrots\, arugula\, cranberry\, local chevre\,\n\nGrainy mustard vinaigrette\n\n \n\nLarge Plates \n\nChicken Paprikash               $14\n\nPaprika seasoned chicken leg quarter\, tomatoes\,\n\nOnions Served with spaetzle\n\n \n\nFish and Chips                    $18\n\nMalt Cured and cider battered Icelandic Cod\,\n\nMashed green peas\, chips and house tarter\n\n \n\nBurgers and Sandwiches\n\nVegetarian Burger              $11\n\nBlack beans\, spinach\,onion\, garlic red peppers\,\n\nserved with leaf lettuce and tomato\n\n \n\nOpen Faced Schnitzel       $15\n\nPork tenderloin breaded with seasoned bread crumbs\, \n\nfried till golden brown\, served with arugula\, egg sunny side up \n\nand lemon butter \n\n \n\nDessert\n\nApple Strudel                     $9\n\nflaky pastry filled with spiced apple filling \n\nserved with vanilla ice cream\n\n \n\nCobblestone Flan              $7\n\nCreamy flan served with a sweet caramel \n\ntopping \n\n\n\n\n\nSummer Spectacular Concert Series:\n\n\n\nJuly 29th - Laugh Out Loud Theater\n\nOrder takeout from our partner restaurant The Rambler\n\n\n\nAugust 5th - Adjacent Cruise\n\n\n\nAugust 12th - NorthCENTER STAGE Talent Showcase (click for more info on participating!)
X-ALT-DESC;FMTTYPE=text/html:<span style="font-size:14px\;"><span style="border:1pt none windowtext\;padding:0in\;"><span style="color:#444444\;"><span style="font-family:arial\,sans-serif\;"><strong>Northcenter&#39\;s (Virtual) Summer Spectacular</strong></span></span></span></span><br />\n<br />\n<span style="font-size:14px\;"><span style="color: rgb(29\, 33\, 41)\; font-family: Helvetica\, Arial\, sans-serif\; white-space: pre-wrap\;">A socially distanced summer doesn&#39\;t have to be a bummer! We&#39\;re bringing our favorite summer tradition into your homes with our virtual Summer Spectacular! On Wednesday nights beginning July 8th\, enjoy great musical performances\, local comedy &amp\; theatre and much more! </span><br />\n<br />\n<span style="font-family:arial\,sans-serif\;"><strong>July 22nd - Music with <a href="https://www.facebook.com/theblackoilbrothers/" target="_blank">The Black Oil Brothers</a></strong></span></span><br />\n<strong><span style="font-size:14px\;">Order takeout from our partner restaurant&nbsp\;</span><a href="https://cobblestone-chicago.com/"><span style="font-size:14px\;">Cobblestone Restaurant&nbsp\;</span></a></strong><br />\n<br />\n<span style="font-size:14px\;"><strong>Cobblestone Menu for Wednesday\, July 22nd</strong>:</span>\n<blockquote style="color: rgb(34\, 34\, 34)\; font-family: Arial\, Helvetica\, sans-serif\; font-size: small\; font-style: normal\;" type="cite">\n<div dir="ltr">\n<div dir="ltr"><font size="4"><font face="arial\, sans-serif"><b>Starters&nbsp\;</b></font>&nbsp\;</font>\n<div><font size="4">Pork Belly Small Bites&nbsp\; &nbsp\; &nbsp\; &nbsp\; &nbsp\; $6</font></div>\n\n<div>Sweet pepper jelly\, dried dates\, and goat cheese&nbsp\;</div>\n\n<div>Served on top of a baguette&nbsp\;crostini&nbsp\;</div>\n\n<div>&nbsp\;</div>\n\n<div><font size="4">Veggie Small Bites&nbsp\; &nbsp\; &nbsp\; &nbsp\; &nbsp\; &nbsp\; &nbsp\; &nbsp\;$6</font></div>\n\n<div>Fire roasted red peppers\, herbed yogurt sauce&nbsp\;</div>\n\n<div>cucumber and dill on top of a baguette crostini</div>\n\n<div>&nbsp\;</div>\n\n<div><b><font size="4">Small Plates&nbsp\;</font></b></div>\n\n<div><font size="4">Eggplant Bruschetta&nbsp\; &nbsp\; &nbsp\; &nbsp\; &nbsp\; &nbsp\; &nbsp\;$13</font></div>\n\n<div>Grilled rounds of eggplant served with fresh&nbsp\;</div>\n\n<div>tomato and basil bruschetta&nbsp\;</div>\n\n<div>&nbsp\;</div>\n\n<div><font size="4">Spicy Pineapple Tart&nbsp\; &nbsp\; &nbsp\; &nbsp\; &nbsp\; &nbsp\; $11</font></div>\n\n<div>Flaky puff pastry filled with brown sugar glazed&nbsp\;</div>\n\n<div>pineapple and prosciutto ham&nbsp\;</div>\n\n<div>&nbsp\;</div>\n\n<div><b style="font-size: large\;">Soup and salad</b></div>\n\n<div><span style="font-size: large\;">Watermelon Gazpacho</span><b style="font-size: large\;">&nbsp\; &nbsp\; &nbsp\; &nbsp\; $8</b></div>\n\n<div>Fresh watermelon\, cucumbers\, tomato\, jalapeno</div>\n\n<div>lime juice \; served chilled&nbsp\;</div>\n\n<div>&nbsp\;</div>\n\n<div><font size="4">Maple Carrot Salad&nbsp\; &nbsp\; &nbsp\; &nbsp\; &nbsp\; &nbsp\; &nbsp\; $11</font></div>\n\n<div>Roasted Carrots\, arugula\, cranberry\, local chevre\,</div>\n\n<div>Grainy mustard vinaigrette</div>\n\n<div>&nbsp\;</div>\n\n<div><font size="4"><b>Large Plates&nbsp\;</b></font></div>\n\n<div><font size="4">Chicken Paprikash&nbsp\; &nbsp\; &nbsp\; &nbsp\; &nbsp\; &nbsp\; &nbsp\; &nbsp\;$14</font></div>\n\n<div>Paprika seasoned chicken leg quarter\, tomatoes\,</div>\n\n<div>Onions Served with spaetzle</div>\n\n<div>&nbsp\;</div>\n\n<div><font size="4">Fish and Chips&nbsp\; &nbsp\; &nbsp\; &nbsp\; &nbsp\; &nbsp\; &nbsp\; &nbsp\; &nbsp\; &nbsp\; $18</font></div>\n\n<div>Malt Cured and cider battered Icelandic Cod\,</div>\n\n<div>Mashed green peas\, chips and house tarter</div>\n\n<div>&nbsp\;</div>\n\n<div><font size="4"><b>Burgers and Sandwiches</b></font></div>\n\n<div><font size="4">Vegetarian Burger&nbsp\; &nbsp\; &nbsp\; &nbsp\; &nbsp\; &nbsp\; &nbsp\; $11</font></div>\n\n<div>Black beans\, spinach\,onion\, garlic red peppers\,</div>\n\n<div>served with leaf lettuce and tomato</div>\n\n<div>&nbsp\;</div>\n\n<div><font size="4">Open Faced Schnitzel&nbsp\; &nbsp\; &nbsp\; &nbsp\;$15</font></div>\n\n<div>Pork tenderloin breaded with seasoned bread crumbs\,&nbsp\;</div>\n\n<div>fried till golden brown\, served with arugula\, egg sunny side up&nbsp\;</div>\n\n<div>and lemon butter&nbsp\;</div>\n\n<div>&nbsp\;</div>\n\n<div><font size="4"><b>Dessert</b></font></div>\n\n<div><font size="4">Apple Strudel&nbsp\; &nbsp\; &nbsp\; &nbsp\; &nbsp\; &nbsp\; &nbsp\; &nbsp\; &nbsp\; &nbsp\; &nbsp\;$9</font></div>\n\n<div>flaky pastry filled with spiced apple filling&nbsp\;</div>\n\n<div>served with vanilla ice cream</div>\n\n<div>&nbsp\;</div>\n\n<div><font size="4">Cobblestone Flan&nbsp\; &nbsp\; &nbsp\; &nbsp\; &nbsp\; &nbsp\; &nbsp\; $7</font></div>\n\n<div>Creamy flan served with a sweet caramel&nbsp\;</div>\n\n<div>topping&nbsp\;</div>\n</div>\n</div>\n</blockquote>\n<br />\n<span style="font-size:14px\;"><strong>Summer Spectacular Concert Series:</strong></span><br />\n<br />\n<span style="font-family:arial\,sans-serif\;">July 29th - <a href="https://www.facebook.com/laughoutloudchicago/">Laugh Out Loud Theater</a></span><br />\n<strong>Order takeout from our partner restaurant <a href="https://theramblerchicago.com/">The Rambler</a></strong><br />\n<br />\n<span style="font-family:arial\,sans-serif\;">August 5<sup>th</sup> - <a href="https://www.facebook.com/adjacentcruise/">Adjacent Cruise</a></span><br />\n<br />\n<span style="background:white\;"><span style="color:black\;"><span style="font-family:arial\,sans-serif\;">August 12<sup>th</sup> - <a href="https://docs.google.com/forms/d/e/1FAIpQLSc4UWfFz906K8mgEiUFuTJBAzuRHcX-TeJ30anCKoE32g9xIQ/viewform">NorthCENTER STAGE Talent Showcase</a> (click for more info on participating!)</span></span></span><br />\n&nbsp\;
LOCATION:Tune in on Facebook Live (or Zoom for some performances) Details here: Northcenter's (Virtual) Summer Spectacular
UID:e.1775.13745
SEQUENCE:3
DTSTAMP:20260426T001511Z
URL:https://business.northcenterchamber.com/events/details/northcenter-summer-concert-series-2020-07-22-2020-13745
END:VEVENT

END:VCALENDAR
