BEGIN:VCALENDAR
VERSION:2.0
PRODID:-//ChamberMaster//Event Calendar 2.0//EN
METHOD:PUBLISH
X-PUBLISHED-TTL:P3D
REFRESH-INTERVAL:P3D
CALSCALE:GREGORIAN
BEGIN:VEVENT
DTSTART:20200806T000000Z
DTEND:20200806T020000Z
X-MICROSOFT-CDO-ALLDAYEVENT:FALSE
SUMMARY:Northcenter's Summer Spectacular 2020!
DESCRIPTION:Northcenter's (Virtual) Summer Spectacular\n\n\n\nA socially distanced summer doesn't have to be a bummer! We're bringing our favorite summer tradition into your homes with our virtual Summer Spectacular! On Wednesday nights beginning July 8th\, enjoy great musical performances\, local comedy & theatre and much more! \n\n\n\nJuly 8th - Music with LYRIQ Music School\n\n\n\nJuly 15th - Family friendly comedy & games with Corn Productions\n\n\n\nJuly 22nd - Music with The Black Oil Brothers\n\n\n\nJuly 29th - Laugh Out Loud Theater\n\n\n\nAugust 5th - Adjacent Cruise\n\nOrder takeout from our partner restaurant Tuscan Hen:\n\nNorthcenter residents can enjoy a boxed dinner for $14.95 so they can watch the concert and enjoy a picnic! The picnic box will include oven baked chicken tenders\, Italian potato salad\, fruit salad and a chocolate chip cookie.  To ensure they don't run out\, pre order by August 4th - 773-666-5555.  \n\n\n\nAugust 12th - NorthCENTER STAGE Talent Showcase (click for more info on participating!)
X-ALT-DESC;FMTTYPE=text/html:<span style="font-size:14px\;"><span style="border:1pt none windowtext\;padding:0in\;"><span style="color:#444444\;"><span style="font-family:arial\,sans-serif\;"><strong>Northcenter&#39\;s (Virtual) Summer Spectacular</strong></span></span></span></span><br />\n<br />\n<span style="color: rgb(29\, 33\, 41)\; font-family: Helvetica\, Arial\, sans-serif\; font-size: 14px\; white-space: pre-wrap\;">A socially distanced summer doesn&#39\;t have to be a bummer! We&#39\;re bringing our favorite summer tradition into your homes with our virtual Summer Spectacular! On Wednesday nights beginning July 8th\, enjoy great musical performances\, local comedy &amp\; theatre and much more! </span><br />\n<br />\n<span style="font-family:arial\,sans-serif\;">July 8th - Music with <a href="https://www.facebook.com/LYRIQMUSICCHICAGO/" target="_blank">LYRIQ Music School</a><br />\n<br />\nJuly 15th - Family friendly comedy &amp\; games with <a href="https://www.facebook.com/cornservatory/" target="_blank">Corn Productions</a><br />\n<br />\nJuly 22nd - Music with <a href="https://www.facebook.com/theblackoilbrothers/" target="_blank">The Black Oil Brothers</a></span><br />\n<br />\n<span style="font-family:arial\,sans-serif\;">July 29th - <a href="https://www.facebook.com/laughoutloudchicago/">Laugh Out Loud Theater</a></span><br />\n<br />\n<span style="font-family:arial\,sans-serif\;">August 5<sup>th</sup> - <a href="https://www.facebook.com/adjacentcruise/">Adjacent Cruise</a></span><br />\n<span style="font-family: arial\, sans-serif\;"><strong>Order takeout from our partner restaurant <a href="https://www.tuscanhenmarket.com/">Tuscan Hen</a>:</strong></span><br />\n<span style="font-size:12px\;"><span style="color: rgb(32\, 32\, 32)\; font-family: &quot\;open sans&quot\;\, &quot\;helvetica neue&quot\;\, helvetica\, arial\, sans-serif\;"><span style="font-family:arial\;">Northcenter residents can enjoy a<strong> boxed dinner for $14.95 so they can watch the concert and enjoy a picnic!</strong>&nbsp\;The picnic box will include oven baked chicken tenders\, Italian potato salad\, fruit salad and a chocolate chip cookie.&nbsp\; To ensure they don&#39\;t run out\,&nbsp\;pre order by August 4th - 773-666-5555.&nbsp\;&nbsp\;</span></span></span><br />\n<br />\n<span style="background:white\;"><span style="color:black\;"><span style="font-family:arial\,sans-serif\;">August 12<sup>th</sup> - <a href="https://docs.google.com/forms/d/e/1FAIpQLSc4UWfFz906K8mgEiUFuTJBAzuRHcX-TeJ30anCKoE32g9xIQ/viewform">NorthCENTER STAGE Talent Showcase</a> (click for more info on participating!)</span></span></span><br />\n&nbsp\;
LOCATION:Tune in on Facebook Live (or Zoom for some performances). Details here: Northcenter's (Virtual) Summer Spectacular
UID:e.1775.13747
SEQUENCE:3
DTSTAMP:20260425T223807Z
URL:https://business.northcenterchamber.com/events/details/northcenter-summer-concert-series-2020-08-05-2020-13747
END:VEVENT

END:VCALENDAR
