BEGIN:VCALENDAR
VERSION:2.0
PRODID:-//ChamberMaster//Event Calendar 2.0//EN
METHOD:PUBLISH
X-PUBLISHED-TTL:P3D
REFRESH-INTERVAL:P3D
CALSCALE:GREGORIAN
BEGIN:VEVENT
DTSTART:20200813T000000Z
DTEND:20200813T020000Z
X-MICROSOFT-CDO-ALLDAYEVENT:FALSE
SUMMARY:Northcenter's Summer Spectacular 2020!
DESCRIPTION:Northcenter's (Virtual) Summer Spectacular\n\nA socially distanced summer doesn't have to be a bummer! We're bringing our favorite summer tradition into your homes with our virtual Summer Spectacular! \n\n\n\nAt the Northcenter Chamber\, we're all about showcasing what's fun & amazing about our neighborhood. On the evening of Wednesday\, August 12th\, the thing we're showcasing... is YOU! Be a part of our first ever neighborhood talent show\, and you could win an opportunity to perform at one of the biggest events of the summer\, Ribfest Chicago\, in 2021!\n\n\n\nAugust 12th - NorthCENTER STAGE Virtual Talent Showcase \n\nOrder takeout from our partner restaurant Jerry's Sandwiches\n\n\nSPECIALS:\n\nChaurice Sausage Po Boy (Louisiana spiced pork)\, pickle\, lettuce\, tomato\, mayo\, Crystal hot sauce\, baguette 13.45\n \n\nNuevo Mexico Burger Burger\, tinga\, avocado\, fried onion\, cotija\, lettuce\, cilantro\, southwest mayo\, brioche bun 14.95\n \n\nNashville Fried Chicken (hot)\, American\, cheese\, pickle\, lettuce\, red onion\, Hellman's mayo\, challah 14.45\n \n\nPittsburgh Seasoned skirt steak\, herb butter\, Swiss\, roast poblano pepper\, fries\, slaw\, aioli\, baguette 15.45\n \n\nHam-Bacon Meatloaf\, cold\, smoked cheddar\, fried onion\, pickle\, basil\, let\, sweet-hot mustard\, multigrain 13.95\n \n\nJames Beard's BLT\, Applewood bacon\, heirloom tomato\, red onion\, arugula\, lettuce\, bacon aioli\, challah 14.45\n \n\nFried Catfish\, American cheese\, basil\, lettuce\, tomato\, house tartar sauce\, challah 14.45\n \n\nGrilled Halloumi\, fried eggplant\, roast pepper\, arugula\, cherry tomato\, vinaigrette\, cracked pepper\, multigrain 13.95\n\n\nOrder specials online at www.jerryssandwiches.com for delivery and carry out! Limited menu available for delivery on Grubhub.
X-ALT-DESC;FMTTYPE=text/html:<span style="font-family:tahoma\;"><span style="font-size:14px\;"><span style="border:1pt none windowtext\;padding:0in\;"><span style="color:#444444\;"><strong>Northcenter&#39\;s (Virtual) Summer Spectacular</strong></span></span></span><br />\n<span style="color: rgb(29\, 33\, 41)\; font-size: 14px\; white-space: pre-wrap\;">A socially distanced summer doesn&#39\;t have to be a bummer! We&#39\;re bringing our favorite summer tradition into your homes with our virtual Summer Spectacular! </span><br />\n<br />\n<span style="font-size: 14px\; white-space: pre-wrap\;">At the Northcenter Chamber\, we&#39\;re all about showcasing what&#39\;s fun &amp\; amazing about our neighborhood. On the evening of Wednesday\, August 12th\, the thing we&#39\;re showcasing... is YOU! Be a part of our first ever neighborhood talent show\, and you could win an opportunity to perform at one of the biggest events of the summer\, Ribfest Chicago\, in 2021!</span></span><br />\n<br />\n<span style="font-size:14px\;"><span style="background:white\;"><span style="color:black\;"><span style="font-family:arial\,sans-serif\;">August 12<sup>th</sup> - <a href="https://docs.google.com/forms/d/e/1FAIpQLSc4UWfFz906K8mgEiUFuTJBAzuRHcX-TeJ30anCKoE32g9xIQ/viewform">NorthCENTER STAGE Virtual Talent Showcase</a>&nbsp\;</span></span></span><br />\n<span style="font-family: arial\, sans-serif\;">Order takeout from our partner restaurant <a href="https://www.jerryssandwiches.com/">Jerry&#39\;s Sandwiches</a></span></span>\n<p dir="ltr" style="line-height:1.38\;margin-top:0pt\;margin-bottom:0pt\;"><br />\n<span id="docs-internal-guid-37e77e83-7fff-b42e-8c82-1f5c5d4cdff0"><span style="font-size: 11pt\; font-family: Arial\; color: rgb(0\, 0\, 0)\; background-color: transparent\; font-weight: 700\; font-variant-numeric: normal\; font-variant-east-asian: normal\; vertical-align: baseline\; white-space: pre-wrap\;">SPECIALS:</span></span></p>\n\n<p dir="ltr" style="line-height:1.38\;margin-top:0pt\;margin-bottom:0pt\;"><span id="docs-internal-guid-37e77e83-7fff-b42e-8c82-1f5c5d4cdff0"><span style="font-size: 11pt\; font-family: Arial\; color: rgb(0\, 0\, 0)\; background-color: transparent\; font-weight: 700\; font-variant-numeric: normal\; font-variant-east-asian: normal\; vertical-align: baseline\; white-space: pre-wrap\;">Chaurice Sausage Po Boy</span><span style="font-size: 11pt\; font-family: Arial\; color: rgb(0\, 0\, 0)\; background-color: transparent\; font-variant-numeric: normal\; font-variant-east-asian: normal\; vertical-align: baseline\; white-space: pre-wrap\;"> (Louisiana spiced pork)\, pickle\, lettuce\, tomato\, mayo\, Crystal hot sauce\, baguette 13.45</span></span></p>\n&nbsp\;\n\n<p dir="ltr" style="line-height:1.38\;margin-top:0pt\;margin-bottom:0pt\;"><span id="docs-internal-guid-37e77e83-7fff-b42e-8c82-1f5c5d4cdff0"><span style="font-size: 11pt\; font-family: Arial\; color: rgb(0\, 0\, 0)\; background-color: transparent\; font-weight: 700\; font-variant-numeric: normal\; font-variant-east-asian: normal\; vertical-align: baseline\; white-space: pre-wrap\;">Nuevo Mexico Burger Burger</span><span style="font-size: 11pt\; font-family: Arial\; color: rgb(0\, 0\, 0)\; background-color: transparent\; font-variant-numeric: normal\; font-variant-east-asian: normal\; vertical-align: baseline\; white-space: pre-wrap\;">\, tinga\, avocado\, fried onion\, cotija\, lettuce\, cilantro\, southwest mayo\, brioche bun 14.95</span></span></p>\n&nbsp\;\n\n<p dir="ltr" style="line-height:1.38\;margin-top:0pt\;margin-bottom:0pt\;"><span id="docs-internal-guid-37e77e83-7fff-b42e-8c82-1f5c5d4cdff0"><span style="font-size: 11pt\; font-family: Arial\; color: rgb(0\, 0\, 0)\; background-color: transparent\; font-weight: 700\; font-variant-numeric: normal\; font-variant-east-asian: normal\; vertical-align: baseline\; white-space: pre-wrap\;">Nashville Fried Chicken</span><span style="font-size: 11pt\; font-family: Arial\; color: rgb(0\, 0\, 0)\; background-color: transparent\; font-variant-numeric: normal\; font-variant-east-asian: normal\; vertical-align: baseline\; white-space: pre-wrap\;"> (hot)\, American\, cheese\, pickle\, lettuce\, red onion\, Hellman&rsquo\;s mayo\, challah 14.45</span></span></p>\n&nbsp\;\n\n<p dir="ltr" style="line-height:1.38\;margin-top:0pt\;margin-bottom:0pt\;"><span id="docs-internal-guid-37e77e83-7fff-b42e-8c82-1f5c5d4cdff0"><span style="font-size: 11pt\; font-family: Arial\; color: rgb(0\, 0\, 0)\; background-color: transparent\; font-weight: 700\; font-variant-numeric: normal\; font-variant-east-asian: normal\; vertical-align: baseline\; white-space: pre-wrap\;">Pittsburgh Seasoned skirt steak</span><span style="font-size: 11pt\; font-family: Arial\; color: rgb(0\, 0\, 0)\; background-color: transparent\; font-variant-numeric: normal\; font-variant-east-asian: normal\; vertical-align: baseline\; white-space: pre-wrap\;">\, herb butter\, Swiss\, roast poblano pepper\, fries\, slaw\, aioli\, baguette 15.45</span></span></p>\n&nbsp\;\n\n<p dir="ltr" style="line-height:1.38\;margin-top:0pt\;margin-bottom:0pt\;"><span id="docs-internal-guid-37e77e83-7fff-b42e-8c82-1f5c5d4cdff0"><span style="font-size: 11pt\; font-family: Arial\; color: rgb(0\, 0\, 0)\; background-color: transparent\; font-weight: 700\; font-variant-numeric: normal\; font-variant-east-asian: normal\; vertical-align: baseline\; white-space: pre-wrap\;">Ham-Bacon Meatloaf</span><span style="font-size: 11pt\; font-family: Arial\; color: rgb(0\, 0\, 0)\; background-color: transparent\; font-variant-numeric: normal\; font-variant-east-asian: normal\; vertical-align: baseline\; white-space: pre-wrap\;">\, cold\, smoked cheddar\, fried onion\, pickle\, basil\, let\, sweet-hot mustard\, multigrain 13.95</span></span></p>\n&nbsp\;\n\n<p dir="ltr" style="line-height:1.38\;margin-top:0pt\;margin-bottom:0pt\;"><span id="docs-internal-guid-37e77e83-7fff-b42e-8c82-1f5c5d4cdff0"><span style="font-size: 11pt\; font-family: Arial\; color: rgb(0\, 0\, 0)\; background-color: transparent\; font-weight: 700\; font-variant-numeric: normal\; font-variant-east-asian: normal\; vertical-align: baseline\; white-space: pre-wrap\;">James Beard&rsquo\;s BLT</span><span style="font-size: 11pt\; font-family: Arial\; color: rgb(0\, 0\, 0)\; background-color: transparent\; font-variant-numeric: normal\; font-variant-east-asian: normal\; vertical-align: baseline\; white-space: pre-wrap\;">\, Applewood bacon\, heirloom tomato\, red onion\, arugula\, lettuce\, bacon aioli\, challah 14.45</span></span></p>\n&nbsp\;\n\n<p dir="ltr" style="line-height:1.38\;margin-top:0pt\;margin-bottom:0pt\;"><span id="docs-internal-guid-37e77e83-7fff-b42e-8c82-1f5c5d4cdff0"><span style="font-size: 11pt\; font-family: Arial\; color: rgb(0\, 0\, 0)\; background-color: transparent\; font-weight: 700\; font-variant-numeric: normal\; font-variant-east-asian: normal\; vertical-align: baseline\; white-space: pre-wrap\;">Fried Catfish</span><span style="font-size: 11pt\; font-family: Arial\; color: rgb(0\, 0\, 0)\; background-color: transparent\; font-variant-numeric: normal\; font-variant-east-asian: normal\; vertical-align: baseline\; white-space: pre-wrap\;">\, American cheese\, basil\, lettuce\, tomato\, house tartar sauce\, challah 14.45</span></span></p>\n&nbsp\;\n\n<p dir="ltr" style="line-height:1.38\;margin-top:0pt\;margin-bottom:0pt\;"><span id="docs-internal-guid-37e77e83-7fff-b42e-8c82-1f5c5d4cdff0"><span style="font-size: 11pt\; font-family: Arial\; color: rgb(0\, 0\, 0)\; background-color: transparent\; font-weight: 700\; font-variant-numeric: normal\; font-variant-east-asian: normal\; vertical-align: baseline\; white-space: pre-wrap\;">Grilled Halloumi</span><span style="font-size: 11pt\; font-family: Arial\; color: rgb(0\, 0\, 0)\; background-color: transparent\; font-variant-numeric: normal\; font-variant-east-asian: normal\; vertical-align: baseline\; white-space: pre-wrap\;">\, fried eggplant\, roast pepper\, arugula\, cherry tomato\, vinaigrette\, cracked pepper\, multigrain 13.95</span></span></p>\n<br />\nOrder specials online at&nbsp\;<a href="https://www.jerryssandwiches.com/">www.jerryssandwiches.com</a>&nbsp\;for delivery and carry out! Limited menu available for delivery on Grubhub.
LOCATION:Tune in on Facebook Live (or Zoom for some performances) Details here: Northcenter's (Virtual) Summer Spectacular
UID:e.1775.13748
SEQUENCE:3
DTSTAMP:20260425T223802Z
URL:https://business.northcenterchamber.com/events/details/northcenter-summer-concert-series-2020-08-12-2020-13748
END:VEVENT

END:VCALENDAR
