BEGIN:VCALENDAR
VERSION:2.0
PRODID:-//ChamberMaster//Event Calendar 2.0//EN
METHOD:PUBLISH
X-PUBLISHED-TTL:P3D
REFRESH-INTERVAL:P3D
CALSCALE:GREGORIAN
BEGIN:VEVENT
DTSTART:20200626T000000Z
DTEND:20200626T010000Z
X-MICROSOFT-CDO-ALLDAYEVENT:FALSE
SUMMARY:Northcenter Trivia Night with the 47th Ward
DESCRIPTION:Northcenter Trivia Night - June 25\n\nJoin Alderman Martin and the Northcenter Chamber of Commerce for a virtual night of neighborhood trivia!\n\n \n\nThe event is at 7pm Thursday\, June 25 on Zoom. There will be Northcenter specific trivia with questions read by special guest hosts from the neighborhood!\n\n \n\nLet's celebrate our neighborhoods and learn how we can support neighbors in need. We'll be announcing prizes and guest question readers soon. RSVP here.
X-ALT-DESC;FMTTYPE=text/html:<div style="color: rgb(64\, 63\, 66)\; font-family: Arial\, Verdana\, Helvetica\, sans-serif\; font-size: 12px\;"><span style="font-size: 16px\; color: rgb(34\, 34\, 34)\; font-weight: bold\;"><span class="il">Northcenter</span>&nbsp\;<span class="il">Trivia</span>&nbsp\;Night - June 25</span></div>\n\n<div style="color: rgb(64\, 63\, 66)\; font-family: Arial\, Verdana\, Helvetica\, sans-serif\; font-size: 12px\;"><span style="font-size: 14px\; color: rgb(12\, 13\, 16)\;">Join Alderman Martin and the&nbsp\;<span class="il">Northcenter</span>&nbsp\;Chamber of Commerce for a virtual night of neighborhood&nbsp\;<span class="il">trivia</span>!</span></div>\n\n<div style="color: rgb(64\, 63\, 66)\; font-family: Arial\, Verdana\, Helvetica\, sans-serif\; font-size: 12px\;">&nbsp\;</div>\n\n<div style="color: rgb(64\, 63\, 66)\; font-family: Arial\, Verdana\, Helvetica\, sans-serif\; font-size: 12px\;"><span style="font-size: 14px\; color: rgb(12\, 13\, 16)\;">The event is at 7pm Thursday\, June 25 on Zoom. There will be&nbsp\;<span class="il">Northcenter</span>&nbsp\;specific&nbsp\;<span class="il">trivia</span>&nbsp\;with questions read by special guest hosts from the neighborhood!</span></div>\n\n<div style="color: rgb(64\, 63\, 66)\; font-family: Arial\, Verdana\, Helvetica\, sans-serif\; font-size: 12px\;">&nbsp\;</div>\n\n<div style="color: rgb(64\, 63\, 66)\; font-family: Arial\, Verdana\, Helvetica\, sans-serif\; font-size: 12px\;"><span style="font-size: 14px\; color: rgb(12\, 13\, 16)\;">Let&#39\;s celebrate our neighborhoods and learn how we can support neighbors in need. We&#39\;ll be announcing prizes and guest question readers soon.&nbsp\;</span><a data-saferedirecturl="https://www.google.com/url?q=http://r20.rs6.net/tn.jsp?f%3D001yPH9XXytDUrkD2i7g4qrxrIdHMGmMBzgRmEEINDJPEFGW5HjIIi3zZuVm06vsvquBNSfZkEnAIGC8HIXgUk3vbvQt8OzU2t734suHdh8X60SWeqebdrrlaK5bIxIlbDk6i9PEMOI-dJWJhF5lJDF3y2aF1-fuMHU7xtufRTzMIA%3D%26c%3DDlsN3cATITvNAyfFquGaSVP0QVp9XiAc7QWjj0zl2uD95uSWOPINCQ%3D%3D%26ch%3DR6lGFTfQvTzsMo71YGU0os2yfn6whghhuDtDCnm9PaxfM9fzweRNpw%3D%3D&amp\;source=gmail&amp\;ust=1592407765900000&amp\;usg=AFQjCNEif93H7e8aQvlpf2g88PqDe1wmhw" href="http://r20.rs6.net/tn.jsp?f=001yPH9XXytDUrkD2i7g4qrxrIdHMGmMBzgRmEEINDJPEFGW5HjIIi3zZuVm06vsvquBNSfZkEnAIGC8HIXgUk3vbvQt8OzU2t734suHdh8X60SWeqebdrrlaK5bIxIlbDk6i9PEMOI-dJWJhF5lJDF3y2aF1-fuMHU7xtufRTzMIA=&amp\;c=DlsN3cATITvNAyfFquGaSVP0QVp9XiAc7QWjj0zl2uD95uSWOPINCQ==&amp\;ch=R6lGFTfQvTzsMo71YGU0os2yfn6whghhuDtDCnm9PaxfM9fzweRNpw==" rel="noopener noreferrer" style="color: rgb(54\, 97\, 189)\; text-decoration-line: none\; font-size: 14px\;" target="_blank">RSVP here</a><span style="font-size: 14px\; color: rgb(12\, 13\, 16)\;">.</span></div>\n
LOCATION:Zoom meeting RSVP here
UID:e.1775.14412
SEQUENCE:3
DTSTAMP:20260426T015735Z
URL:https://business.northcenterchamber.com/events/details/northcenter-trivia-night-with-the-47th-ward-14412
END:VEVENT

END:VCALENDAR
