BEGIN:VCALENDAR
VERSION:2.0
PRODID:-//ChamberMaster//Event Calendar 2.0//EN
METHOD:PUBLISH
X-PUBLISHED-TTL:P3D
REFRESH-INTERVAL:P3D
CALSCALE:GREGORIAN
BEGIN:VEVENT
DTSTART:20210523T150000Z
DTEND:20210523T160000Z
X-MICROSOFT-CDO-ALLDAYEVENT:FALSE
SUMMARY:Om on the Town Square
DESCRIPTION:Om on the Town Square Yoga Class. Safely distanced with a max of 40 people. Sign up at www.omontherange.net/class-schedule . Class is free to attend\; donations gratefully accepted. Contact us info@omontherange.net with questions.
X-ALT-DESC;FMTTYPE=text/html:Om on the Town Square Yoga Class. Safely distanced with a max of 40 people. Sign up at www.omontherange.net/class-schedule . Class is free to attend\; donations gratefully accepted. Contact us info@omontherange.net with questions.
LOCATION:Northcenter Town Square 4100 N. Damen Ave.
UID:e.1775.16069
SEQUENCE:3
DTSTAMP:20260421T064829Z
URL:https://business.northcenterchamber.com/events/details/om-on-the-town-square-05-23-2021-16069
END:VEVENT

END:VCALENDAR
