BEGIN:VCALENDAR
VERSION:2.0
PRODID:-//ChamberMaster//Event Calendar 2.0//EN
METHOD:PUBLISH
X-PUBLISHED-TTL:P3D
REFRESH-INTERVAL:P3D
CALSCALE:GREGORIAN
BEGIN:VEVENT
DTSTART:20200517T210000Z
DTEND:20200517T221500Z
X-MICROSOFT-CDO-ALLDAYEVENT:FALSE
SUMMARY:Online Fundraiser: Third Coast Percussion
DESCRIPTION:Join us on May 17 for a fun afternoon celebrating Third Coast Percussion's 15th year\, our upcoming Carnegie Hall debut\, and our groundbreaking work this season and beyond. This one time only event will be a fabulous opportunity to support TCP while enjoying an exclusive live streamed performance by the ensemble\, celebratory custom cocktails\, surprise special guests\, and much more\, all from the comfort of your own home. You won't want to miss this!
X-ALT-DESC;FMTTYPE=text/html:Join us on May 17 for a fun afternoon celebrating Third Coast Percussion&#39\;s 15th year\, our upcoming Carnegie Hall debut\, and our groundbreaking work this season and beyond. This one time only event will be a fabulous opportunity to support TCP while enjoying an exclusive live streamed performance by the ensemble\, celebratory custom cocktails\, surprise special guests\, and much more\, all from the comfort of your own home. You won&#39\;t want to miss this!
LOCATION:Online! Anywhere!
UID:e.1775.14316
SEQUENCE:3
DTSTAMP:20260426T032945Z
URL:https://business.northcenterchamber.com/events/details/online-fundraiser-third-coast-percussion-14316
END:VEVENT

END:VCALENDAR
