BEGIN:VCALENDAR
VERSION:2.0
PRODID:-//ChamberMaster//Event Calendar 2.0//EN
METHOD:PUBLISH
X-PUBLISHED-TTL:P3D
REFRESH-INTERVAL:P3D
CALSCALE:GREGORIAN
BEGIN:VEVENT
DTSTART:20200518T233000Z
DTEND:20200519T003000Z
X-MICROSOFT-CDO-ALLDAYEVENT:FALSE
SUMMARY:Online German Beginner Class for Adults
DESCRIPTION:Class Description Learn basic German sentences and language structure in individual as well as group activities and enjoy the chance for more one-on-one interaction with your instructor. This class meets online on Monday (6:30pm-7:30pm) and Thursday (6:30pm-7:30pm) for video meetings with your instructor (and classmates). The included course materials include listening exercises you can play from your phone. Have the flexibility to work on your assignments where and when you can\, and the opportunity to interact with a German speaking instructor when you need it! This class covers CEFR A1.1. Prerequisites: No prior experience in German? Perfect! This is the right class!
X-ALT-DESC;FMTTYPE=text/html:Class Description Learn basic German sentences and language structure in individual as well as group activities and enjoy the chance for more one-on-one interaction with your instructor. This class meets online on Monday (6:30pm-7:30pm) and Thursday (6:30pm-7:30pm) for video meetings with your instructor (and classmates). The included course materials include listening exercises you can play from your phone. Have the flexibility to work on your assignments where and when you can\, and the opportunity to interact with a German speaking instructor when you need it! This class covers CEFR A1.1. Prerequisites: No prior experience in German? Perfect! This is the right class!
LOCATION:Online
UID:e.1775.14298
SEQUENCE:3
DTSTAMP:20260426T033822Z
URL:https://business.northcenterchamber.com/events/details/online-german-beginner-class-for-adults-05-18-2020-14298
END:VEVENT

END:VCALENDAR
