BEGIN:VCALENDAR
VERSION:2.0
PRODID:-//ChamberMaster//Event Calendar 2.0//EN
METHOD:PUBLISH
X-PUBLISHED-TTL:P3D
REFRESH-INTERVAL:P3D
CALSCALE:GREGORIAN
BEGIN:VEVENT
DTSTART:20210926T130000Z
DTEND:20210926T150000Z
X-MICROSOFT-CDO-ALLDAYEVENT:FALSE
SUMMARY:"Oui" Run 5K & Kids Races
DESCRIPTION:The 5K with a French flair! Join us at the start line in front of Ravenswood's Lyc e Fran ais de Chicago for "zee" most fabulous race in Chicago!   vos marques\, pr ts\, partez! This certified\, chip-timed course is perfect for all. The seasoned runner will love the flat course to post great times\, weekend runners will enjoy the scenic Ravenswood route\, and it is fun for families to run or walk the 5K together or participate in the Kids Races. Plus there are chocolate croissants!
X-ALT-DESC;FMTTYPE=text/html:The 5K with a French flair! Join us at the start line in front of Ravenswood&rsquo\;s Lyc&eacute\;e Fran&ccedil\;ais de Chicago for &ldquo\;zee&rdquo\; most fabulous race in Chicago! &Agrave\; vos marques\, pr&ecirc\;ts\, partez! This certified\, chip-timed course is perfect for all. The seasoned runner will love the flat course to post great times\, weekend runners will enjoy the scenic Ravenswood route\, and it is fun for families to run or walk the 5K together or participate in the Kids Races. Plus there are chocolate croissants!
LOCATION:Lyc e Fran ais de Chicago 1929 West Wilson Avenue Chicago\, IL 60640
UID:e.1775.16314
SEQUENCE:3
DTSTAMP:20260420T232752Z
URL:https://business.northcenterchamber.com/events/details/oui-run-5k-kids-races-16314
END:VEVENT

END:VCALENDAR
