BEGIN:VCALENDAR
VERSION:2.0
PRODID:-//ChamberMaster//Event Calendar 2.0//EN
METHOD:PUBLISH
X-PUBLISHED-TTL:P3D
REFRESH-INTERVAL:P3D
CALSCALE:GREGORIAN
BEGIN:VEVENT
DTSTART:20201229T003000Z
DTEND:20201229T020000Z
X-MICROSOFT-CDO-ALLDAYEVENT:FALSE
SUMMARY:Outdoor Mat Pilates Class w/Club Pilates
DESCRIPTION:Outdoor Mat Pilates Class
X-ALT-DESC;FMTTYPE=text/html:<div class="emOPE___entry-EntryContainer__cls1" data-component="entry" style="box-sizing: inherit\; position: relative\; margin-bottom: 20px\; color: rgb(77\, 80\, 85)\; font-family: &quot\;Proxima Nova&quot\;\, sans-serif\; font-size: 16px\;">\n<div class="mbm _3cQHZ___questions-Item__cls1" style="box-sizing: inherit\; margin-bottom: 20px\;">\n<div style="box-sizing: inherit\;">Outdoor Mat Pilates Class</div>\n\n<div>&nbsp\;</div>\n</div>\n</div>\n
LOCATION:Northcenter Town Square 4100 N. Damen
UID:e.1775.15671
SEQUENCE:3
DTSTAMP:20260425T155945Z
URL:https://business.northcenterchamber.com/events/details/outdoor-mat-pilates-class-w-club-pilates-12-28-2020-15671
END:VEVENT

END:VCALENDAR
