BEGIN:VCALENDAR
VERSION:2.0
PRODID:-//ChamberMaster//Event Calendar 2.0//EN
METHOD:PUBLISH
X-PUBLISHED-TTL:P3D
REFRESH-INTERVAL:P3D
CALSCALE:GREGORIAN
BEGIN:VEVENT
DTSTART:20220213T230000Z
DTEND:20220214T010000Z
X-MICROSOFT-CDO-ALLDAYEVENT:FALSE
SUMMARY:Paint Your Love Together
DESCRIPTION:Have you ever created an art piece TOGETHER?\n\nCreating together is fun\, and there are no mistakes in art. So why not???\n\nBring your Valentine and celebrate your LOVE while creating a masterpiece together. You will leave with fun memories and a masterpiece to add to your art collection\, created by you and your love.\n\nCouples will have some guides from the artist (Bojana/Bojitt ) and have all the freedom to work together on their masterpiece.\n\nall materials included ( acrylic paint\, mixed media materials\, canvases\, brushes)\n\n\n	\n	- space is limited to 5 couples ( 10 people ) per class.\n	\n	\n	- proof of Covid Vaccination is required. Masks are mandatory\, please ware them when you are not sipping.\n	\n	\n	 \n	\n	\n	- BYOB ( no hard alcohol please )
X-ALT-DESC;FMTTYPE=text/html:<p style="color: rgba(0\, 0\, 0\, 0.5)\; font-family: proxima-nova\; font-size: 15px\; letter-spacing: 0.3px\; text-align: center\;">Have you ever created an art piece TOGETHER?</p>\n\n<p style="color: rgba(0\, 0\, 0\, 0.5)\; font-family: proxima-nova\; font-size: 15px\; letter-spacing: 0.3px\; text-align: center\;">Creating together is fun\, and there are no mistakes in art. So why not???</p>\n\n<p style="color: rgba(0\, 0\, 0\, 0.5)\; font-family: proxima-nova\; font-size: 15px\; letter-spacing: 0.3px\; text-align: center\;">Bring your Valentine and celebrate your LOVE while creating a masterpiece together. You will leave with fun memories and a masterpiece to add to your art collection\, created by you and your love.</p>\n\n<p style="color: rgba(0\, 0\, 0\, 0.5)\; font-family: proxima-nova\; font-size: 15px\; letter-spacing: 0.3px\; text-align: center\;">Couples will have some guides from the artist (Bojana/Bojitt ) and have all the freedom to work together on their masterpiece.</p>\n\n<p style="color: rgba(0\, 0\, 0\, 0.5)\; font-family: proxima-nova\; font-size: 15px\; letter-spacing: 0.3px\; text-align: center\;">all materials included ( acrylic paint\, mixed media materials\, canvases\, brushes)</p>\n\n<ul data-rte-list="default" style="color: rgba(0\, 0\, 0\, 0.5)\; font-family: proxima-nova\; font-size: 15px\; letter-spacing: 0.3px\; text-align: center\;">\n	<li style="list-style-type: none\;">\n	<p style="margin-top: 0.5em\; margin-bottom: 0.5em\;">- space is limited to 5 couples ( 10 people ) per class.</p>\n	</li>\n	<li style="list-style-type: none\;">\n	<p style="margin-top: 0.5em\; margin-bottom: 0.5em\;">- proof of Covid Vaccination is required. Masks are mandatory\, please ware them when you are not sipping.</p>\n	</li>\n	<li style="list-style-type: none\;">\n	<p style="margin-top: 0.5em\; margin-bottom: 0.5em\;">&nbsp\;</p>\n	</li>\n	<li style="list-style-type: none\;">\n	<p style="margin-top: 0.5em\; margin-bottom: 0.5em\;">- BYOB ( no hard alcohol please )</p>\n	</li>\n</ul>\n
LOCATION:3759 N Ravenswood Ave\, suit 226C\, Chicago\, IL\, 60613
UID:e.1775.16799
SEQUENCE:3
DTSTAMP:20260420T153721Z
URL:https://business.northcenterchamber.com/events/details/paint-your-love-together-16799
END:VEVENT

END:VCALENDAR
