BEGIN:VCALENDAR
VERSION:2.0
PRODID:-//ChamberMaster//Event Calendar 2.0//EN
METHOD:PUBLISH
X-PUBLISHED-TTL:P3D
REFRESH-INTERVAL:P3D
CALSCALE:GREGORIAN
BEGIN:VEVENT
DTSTART:20220204T010000Z
DTEND:20220204T020000Z
X-MICROSOFT-CDO-ALLDAYEVENT:FALSE
SUMMARY:Pilgrim Lutheran Open House
DESCRIPTION:Are you looking for a safe and nurturing play-based preschool for your child? Come check out Pilgrim Lutheran during our Open House event on Thursday\, February 3\, at 7 p.m. Applications are currently being accepted for the 2022-23 school year!\n\n\n\nApply today - or RSVP for our Open House - at www.pilgrimchicago.org! We also offer Tuesday morning virtual tours\, and one-on-one school visits by request.
X-ALT-DESC;FMTTYPE=text/html:<span style="color: rgb(32\, 32\, 32)\; font-family: Helvetica\; font-size: 16px\;">Are you looking for a safe and nurturing play-based preschool for your child? Come check out Pilgrim Lutheran during our Open House event on Thursday\, February 3\, at 7 p.m. Applications are currently being accepted for the 2022-23 school year!</span><br style="color: rgb(32\, 32\, 32)\; font-family: Helvetica\; font-size: 16px\;" />\n<br style="color: rgb(32\, 32\, 32)\; font-family: Helvetica\; font-size: 16px\;" />\n<span style="color: rgb(32\, 32\, 32)\; font-family: Helvetica\; font-size: 16px\;">Apply today - or RSVP for our Open House - at&nbsp\;</span><a data-saferedirecturl="https://www.google.com/url?q=http://www.pilgrimchicago.org&amp\;source=gmail&amp\;ust=1643735716206000&amp\;usg=AOvVaw3LL46TIkvSkQs6leXKZXI0" href="http://www.pilgrimchicago.org/" style="text-size-adjust: 100%\; color: rgb(0\, 124\, 137)\; font-family: Helvetica\; font-size: 16px\;" target="_blank">www.pilgrimchicago.org</a><span style="color: rgb(32\, 32\, 32)\; font-family: Helvetica\; font-size: 16px\;">! We also offer Tuesday morning virtual tours\, and one-on-one school visits by request.&nbsp\;&nbsp\;</span>
LOCATION:Pilgrim School 4300 N. Winchester Ave Chicago\, IL 60613
UID:e.1775.16800
SEQUENCE:3
DTSTAMP:20260420T171324Z
URL:https://business.northcenterchamber.com/events/details/pilgrim-lutheran-open-house-16800
END:VEVENT

END:VCALENDAR
