BEGIN:VCALENDAR
VERSION:2.0
PRODID:-//ChamberMaster//Event Calendar 2.0//EN
METHOD:PUBLISH
X-PUBLISHED-TTL:P3D
REFRESH-INTERVAL:P3D
CALSCALE:GREGORIAN
BEGIN:VEVENT
DTSTART:20211203T010000Z
DTEND:20211203T020000Z
X-MICROSOFT-CDO-ALLDAYEVENT:FALSE
SUMMARY:Pilgrim Lutheran Open House (in person)
DESCRIPTION:Join us to find out what makes Pilgrim Lutheran one of the premier private schools in the North Center/Ravenswood neighborhood. We're hosting an in-person Open House on Thursday\, December 2\, at 7 p.m. This is your chance to learn more about Pilgrim's "whole child" approach to education\, our award-winning Early Childhood program\, and how we consistently achieve a 95 percent acceptance rate of our graduates into competitive high schools. Receive a tour of our building (4300 N. Winchester)\, and take part in a Q&A session with Principal Chris Comella - as well as Pilgrim teachers and parents. RSVP at www.tinyurl.com/pilgrim-events\, or email Amanda Hays at marketing@pilgrimchicago.org. Find out if Pilgrim is the best fit for your family! We still have spots available for the second half of this year\, and for 2022-23.
X-ALT-DESC;FMTTYPE=text/html:<h2 style="box-sizing: inherit\; clear: both\; color: rgb(65\, 64\, 66)\; font-family: Roboto\, sans-serif\;">Join us to find out what makes Pilgrim Lutheran one of the premier private schools in the North Center/Ravenswood neighborhood. We&#39\;re hosting an in-person Open House on Thursday\, December 2\, at 7 p.m. This is your chance to learn more about Pilgrim&#39\;s &ldquo\;whole child&rdquo\; approach to education\, our award-winning Early Childhood program\, and how we consistently achieve a 95 percent acceptance rate of our graduates into competitive high schools. Receive&nbsp\;a tour of our building (4300 N. Winchester)\, and take part in a Q&amp\;A session with Principal Chris Comella - as well as Pilgrim teachers and parents. RSVP at&nbsp\;<a data-saferedirecturl="https://www.google.com/url?q=http://www.tinyurl.com/pilgrim-events&amp\;source=gmail&amp\;ust=1637780791501000&amp\;usg=AOvVaw3J2-W_EYujFaj-IZakwtDO" href="http://www.tinyurl.com/pilgrim-events" style="color: rgb(17\, 85\, 204)\;" target="_blank">www.tinyurl.com/pilgrim-events</a><wbr />\, or email Amanda Hays at&nbsp\;<a href="mailto:marketing@pilgrimchicago.org" style="color: rgb(17\, 85\, 204)\;" target="_blank">marketing@pilgrimchicago.org</a>. Find out if Pilgrim is the best fit for your family! We still have spots available for the second half of this year\, and for 2022-23.</h2>\n
LOCATION:4300 N. Winchester Ave.
UID:e.1775.16368
SEQUENCE:3
DTSTAMP:20260420T183700Z
URL:https://business.northcenterchamber.com/events/details/pilgrim-lutheran-open-house-in-person-16368
END:VEVENT

END:VCALENDAR
