BEGIN:VCALENDAR
VERSION:2.0
PRODID:-//ChamberMaster//Event Calendar 2.0//EN
METHOD:PUBLISH
X-PUBLISHED-TTL:P3D
REFRESH-INTERVAL:P3D
CALSCALE:GREGORIAN
BEGIN:VEVENT
DTSTART:20200502T190000Z
DTEND:20200502T200000Z
X-MICROSOFT-CDO-ALLDAYEVENT:FALSE
SUMMARY:Plants & Plans
DESCRIPTION:At City Grange our mission is to remove every barrier to your gardening success. This year that means making things as simple as possible for the many people interested in starting on a gardening journey. Plans & Plants explains our simple system of plans that any DIY home landscaper can use and the useful plants that will make them thrive. We will also highlight plants that are beneficial for birds\, bees and insects and touch on organic gardening principles.
X-ALT-DESC;FMTTYPE=text/html:At City Grange our mission is to remove every barrier to your gardening success. This year that means making things as simple as possible for the many people interested in starting on a gardening journey. Plans &amp\; Plants explains our simple system of plans that any DIY home landscaper can use and the useful plants that will make them thrive. We will also highlight plants that are beneficial for birds\, bees and insects and touch on organic gardening principles.
LOCATION:This is an ONLINE class
UID:e.1775.14288
SEQUENCE:3
DTSTAMP:20260426T032945Z
URL:https://business.northcenterchamber.com/events/details/plants-plans-14288
END:VEVENT

END:VCALENDAR
