BEGIN:VCALENDAR
VERSION:2.0
PRODID:-//ChamberMaster//Event Calendar 2.0//EN
METHOD:PUBLISH
X-PUBLISHED-TTL:P3D
REFRESH-INTERVAL:P3D
CALSCALE:GREGORIAN
BEGIN:VEVENT
DTSTART:20210801T223000Z
DTEND:20210802T000000Z
X-MICROSOFT-CDO-ALLDAYEVENT:FALSE
SUMMARY:Playbound Free Kids Activities
DESCRIPTION:Free Kids Games and Activities at the Town Square! Play GaGa Ball\, Flag Tag\, and Treasure Hunt. Games lead by counselors. For ages 3 - 14.
X-ALT-DESC;FMTTYPE=text/html:Free Kids Games and Activities at the Town Square! Play GaGa Ball\, Flag Tag\, and Treasure Hunt. Games lead by counselors. For ages 3 - 14.
LOCATION:Northcenter Town Square 4100 N Damen Ave
UID:e.1775.16336
SEQUENCE:3
DTSTAMP:20260421T030109Z
URL:https://business.northcenterchamber.com/events/details/playbound-free-kids-activities-16336
END:VEVENT

END:VCALENDAR
