BEGIN:VCALENDAR
VERSION:2.0
PRODID:-//ChamberMaster//Event Calendar 2.0//EN
METHOD:PUBLISH
X-PUBLISHED-TTL:P3D
REFRESH-INTERVAL:P3D
CALSCALE:GREGORIAN
BEGIN:VEVENT
DTSTART:20200821T230000Z
DTEND:20200822T020000Z
X-MICROSOFT-CDO-ALLDAYEVENT:FALSE
SUMMARY:Possibilities Theatre Company Performance of 'Smokefall' by Noah Haidle
DESCRIPTION:Performance of Smokefall by Noah Haidle
X-ALT-DESC;FMTTYPE=text/html:Performance of Smokefall by Noah Haidle
LOCATION:Northcenter Town Square 4100 N. Damen
UID:e.1775.15855
SEQUENCE:3
DTSTAMP:20260425T223801Z
URL:https://business.northcenterchamber.com/events/details/possibilities-theatre-company-performance-of-smokefall-by-noah-haidle-15855
END:VEVENT

END:VCALENDAR
