BEGIN:VCALENDAR
VERSION:2.0
PRODID:-//ChamberMaster//Event Calendar 2.0//EN
METHOD:PUBLISH
X-PUBLISHED-TTL:P3D
REFRESH-INTERVAL:P3D
CALSCALE:GREGORIAN
BEGIN:VEVENT
DTSTART;VALUE=DATE:20201002
DTEND;VALUE=DATE:20201012
TRANSP:TRANSPARENT
X-MICROSOFT-CDO-ALLDAYEVENT:TRUE
SUMMARY:RestauranTour 2020 Remixed: A 10 day culinary celebration of Northcenter!
DESCRIPTION:RestauranTour Remixed\, a culinary exploration of Northcenter\, is back but may look a little different this year! \n\n\n\nThis year's event will be a time for friends and family to gather (at a safe distance!) and enjoy good food and drinks from Northcenter restaurants and bars. The event will follow a slightly different format that will provide dine-in\, carry-out & delivery discounts or specials\, specialty menu items or virtual events to guests over ten days from Friday\, October 2nd - Sun October 11th.\n\n\n\nJoin The Globe Pub for a fabulous virtual beer tasting on October 8th! Registration and details here!\n\n\n\nRestaurant special offers include (all specials are for dine-in and carry-out unless otherwise specified):\nArmand's Pizzeria (4159 N. Western) - Buy one pizza slice and receive a free side salad\n\nBottles & Cans (4109 N. Lincoln) - Order your Cheers To Northcenter Variety Pack here!  \n\nBrownstone Tavern & Grill (3937 N. Lincoln) - $5 off any takeout or delivery order over $20\; please call in orders. Use discount code: Remix\n\nC'est Bien Thai (3900 N. Lincoln) - 10% off orders of $15 or more\n\nCobblestone (4337 N. Lincoln) - 15% off entire order\n\nDon Pedro Mexican Restaurant (4064 N. Lincoln Ave.) - 10% off entire order\; or 50% off an appetizer or dessert with purchase of 3 entrees\n\nJerry's Sandwiches (4739 N. Lincoln)  - 15% off entire order\n\nThe Globe Pub (1934 W. Irving Park) - $15 burger/beer/shot special\; Virtual Beer Tasting Event hosted by the Globe Pub!\n\nThe Rambler Kitchen + Tap (4128 N. Lincoln) - 20% off Rambler Signature Items: Rambler burger\, jerk wings\, cheese curds and Ramblers signature cocktail menu. (Includes delivery)\n\nL&M Fine Foods (4363 N. Lincoln) - 10% off beef purchases over $40 through our butcher counter\n\nLizzy J Cafe and Catering (2205 W. Montrose) - Offering specials for pick-up!\n\nMac Dynamite (4131 N. Rockwell) - 15% off whole orders through ChowNow\, which also includes free delivery\, or pickup through the Mac Dynamite website\, Instagram\, or the Chownow app.  Use discount code: Remix \n\nMi Fogata (4322 N. Western) - 20% off tacos and enchiladas\n\nMrs. Murphy & Sons Irish Bistro (3905 N. Lincoln) - 10% off any pickup or delivery orders placed with us online at irishbistro.com. Use the discount code: NORTHCENTER\n\nReclaimed Bar & Restaurant (3655 N. Western) - Pulled Pork Sandwich or Brisket Burger with a draft beer for $15\n\nROCKS Northcenter (4138 N. Lincoln) - 20% off all to-go growlers and cocktails\n\nSpicy Mexican Grill (3925 N. Lincoln) - $5.99 burritos and burrito bowls\n\nTuscan Hen Market (4019 N. Damen) - Butternut squash tortellini\, an Italian house salad and pumpkin cannoli for $16.96 per person\n\nWild Goose Bar & Grill (4265 N. Lincoln) - Order of Wings and a beer for $12.  Dine in special only. \n\nZia's Lago Vista (3819 N. Ashland) - Appetizer\, entree and dessert for $35/person! Check out their special RestauranTOUR menu.\n\n\n\nBefore placing your orders\, please double check the restaurant's open days and hours on their website. Some establishments may not be open everyday of the event.
X-ALT-DESC;FMTTYPE=text/html:<span style="font-family:arial\;"><span style="color: rgb(32\, 33\, 36)\; letter-spacing: 0.2px\; white-space: pre-wrap\;">RestauranTour Remixed\, a culinary exploration of Northcenter\, is back but may look a little different this year! </span><br style="color: rgb(32\, 33\, 36)\; font-family: Roboto\, Arial\, sans-serif\; font-size: 14px\; letter-spacing: 0.2px\; white-space: pre-wrap\;" />\n<br />\n<span style="color: rgb(29\, 33\, 41)\; white-space: pre-wrap\;">This year&#39\;s event will be a time for friends and family to gather (at a safe distance!) and enjoy good food and drinks from Northcenter restaurants and bars. The event will follow a slightly different format that will provide dine-in\, carry-out &amp\; delivery discounts or specials\, specialty menu items or virtual events to guests over ten days from Friday\, October 2nd - Sun October 11th.</span></span><br style="color: rgb(29\, 33\, 41)\; font-family: Helvetica\, Arial\, sans-serif\; font-size: 14px\; white-space: pre-wrap\;" />\n<br />\n<span style="font-family:arial\;"><em><strong><span data-offset-key="d5t9j-0-0" style="color: rgb(28\, 30\, 33)\; white-space: pre-wrap\;"><span data-text="true">Join The Globe Pub</span></span><span data-offset-key="d5t9j-2-0" style="color: rgb(28\, 30\, 33)\; white-space: pre-wrap\;"><span data-text="true"> for a fabulous virtual beer tasting on October 8th! <a href="https://www.northcenterchamber.com/events/details/the-globe-pub-hosts-a-virtual-beer-tasting-16020">Registration and details here!</a></span></span></strong></em><br />\n<br />\n<b>Restaurant special offers include (all specials are for dine-in and carry-out unless otherwise specified):</b></span>\n<p dir="ltr" role="presentation" style="list-style-type: disc\; font-size: 10pt\; font-family: Arial\; color: rgb(0\, 0\, 0)\; background-color: transparent\; font-variant-numeric: normal\; font-variant-east-asian: normal\; vertical-align: baseline\; white-space: pre\;line-height:1.38\;margin-top:10pt\;margin-bottom:0pt\;"><span id="docs-internal-guid-aab236cc-7fff-a913-255b-a46dca9dd2d2"><a href="http://armandspizzeria.com/" style="text-decoration-line: none\;"><span style="font-size: 10pt\; color: rgb(17\, 85\, 204)\; background-color: transparent\; font-variant-numeric: normal\; font-variant-east-asian: normal\; text-decoration-line: underline\; text-decoration-skip-ink: none\; vertical-align: baseline\; white-space: pre-wrap\;">Armand&#39\;s Pizzeria</span></a><span style="font-size: 10pt\; background-color: transparent\; font-variant-numeric: normal\; font-variant-east-asian: normal\; vertical-align: baseline\; white-space: pre-wrap\;"> (4159 N. Western) - Buy one pizza slice and receive a free side salad</span></span></p>\n\n<div style="list-style-type: disc\; font-size: 10pt\; font-family: Arial\; background-color: transparent\; font-variant-numeric: normal\; font-variant-east-asian: normal\; vertical-align: baseline\; white-space: pre\; line-height: 1.38\; margin-top: 0pt\; margin-bottom: 0pt\;"><span id="docs-internal-guid-aab236cc-7fff-a913-255b-a46dca9dd2d2"><a href="https://www.bottlesandcanschicago.com/" style="text-decoration-line: none\;"><span style="font-size: 10pt\; color: rgb(60\, 120\, 216)\; font-variant-numeric: normal\; font-variant-east-asian: normal\; text-decoration-line: underline\; text-decoration-skip-ink: none\; vertical-align: baseline\; white-space: pre-wrap\;">Bottles &amp\; Cans</span></a><span style="font-size: 10pt\; color: rgb(28\, 30\, 33)\; font-variant-numeric: normal\; font-variant-east-asian: normal\; vertical-align: baseline\; white-space: pre-wrap\;"> (4109 N. Lincoln) -</span><a href="https://www.northcenterchamber.com/events/details/cheers-to-northcenter-order-your-variety-pack-16017" style="text-decoration-line: none\;"><span style="font-size: 10pt\; color: rgb(28\, 30\, 33)\; font-variant-numeric: normal\; font-variant-east-asian: normal\; vertical-align: baseline\; white-space: pre-wrap\;"> </span><span style="font-size: 10pt\; font-variant-numeric: normal\; font-variant-east-asian: normal\; text-decoration-line: underline\; text-decoration-skip-ink: none\; vertical-align: baseline\; white-space: pre-wrap\;">Order your Cheers To Northcenter Variety Pack here!</span></a><a href="https://www.brownstonetavern.com/" style="text-decoration-line: none\;"><span style="font-size: 10pt\; font-variant-numeric: normal\; font-variant-east-asian: normal\; text-decoration-line: underline\; text-decoration-skip-ink: none\; vertical-align: baseline\; white-space: pre-wrap\;"> </span><span style="font-size: 10pt\; color: rgb(17\, 85\, 204)\; font-variant-numeric: normal\; font-variant-east-asian: normal\; text-decoration-line: underline\; text-decoration-skip-ink: none\; vertical-align: baseline\; white-space: pre-wrap\;">&#8203\;</span></a></span></div>\n\n<p dir="ltr" role="presentation" style="list-style-type: disc\; font-size: 10pt\; font-family: Arial\; color: rgb(0\, 0\, 0)\; background-color: transparent\; font-variant-numeric: normal\; font-variant-east-asian: normal\; vertical-align: baseline\; white-space: pre\;line-height:1.38\;margin-top:0pt\;margin-bottom:0pt\;"><span id="docs-internal-guid-aab236cc-7fff-a913-255b-a46dca9dd2d2"><a href="https://www.brownstonetavern.com/" style="text-decoration-line: none\;"><span style="font-size: 10pt\; color: rgb(17\, 85\, 204)\; background-color: transparent\; font-variant-numeric: normal\; font-variant-east-asian: normal\; text-decoration-line: underline\; text-decoration-skip-ink: none\; vertical-align: baseline\; white-space: pre-wrap\;">Brownstone Tavern &amp\; Grill</span></a><span style="font-size: 10pt\; background-color: transparent\; font-variant-numeric: normal\; font-variant-east-asian: normal\; vertical-align: baseline\; white-space: pre-wrap\;"> (3937 N. Lincoln) - $5 off any takeout or delivery order over $20\; please call in orders. Use discount code: </span><span style="font-size: 10pt\; background-color: transparent\; font-weight: 700\; font-variant-numeric: normal\; font-variant-east-asian: normal\; vertical-align: baseline\; white-space: pre-wrap\;">Remix</span></span></p>\n\n<p dir="ltr" role="presentation" style="list-style-type: disc\; font-size: 10pt\; font-family: Arial\; color: rgb(0\, 0\, 0)\; background-color: transparent\; font-variant-numeric: normal\; font-variant-east-asian: normal\; vertical-align: baseline\; white-space: pre\;line-height:1.38\;margin-top:0pt\;margin-bottom:0pt\;"><span id="docs-internal-guid-aab236cc-7fff-a913-255b-a46dca9dd2d2"><a href="http://cestbienthai.com/" style="text-decoration-line: none\;"><span style="font-size: 10pt\; color: rgb(17\, 85\, 204)\; background-color: transparent\; font-variant-numeric: normal\; font-variant-east-asian: normal\; text-decoration-line: underline\; text-decoration-skip-ink: none\; vertical-align: baseline\; white-space: pre-wrap\;">C&#39\;est Bien Thai</span></a><span style="font-size: 10pt\; background-color: transparent\; font-variant-numeric: normal\; font-variant-east-asian: normal\; vertical-align: baseline\; white-space: pre-wrap\;"> (3900 N. Lincoln) - 10% off orders of $15 or more</span></span></p>\n\n<p dir="ltr" role="presentation" style="list-style-type: disc\; font-size: 10pt\; font-family: Arial\; color: rgb(0\, 0\, 0)\; background-color: transparent\; font-variant-numeric: normal\; font-variant-east-asian: normal\; vertical-align: baseline\; white-space: pre\;line-height:1.38\;margin-top:0pt\;margin-bottom:0pt\;"><span id="docs-internal-guid-aab236cc-7fff-a913-255b-a46dca9dd2d2"><a href="https://cobblestone-chicago.com/" style="text-decoration-line: none\;"><span style="font-size: 10pt\; color: rgb(17\, 85\, 204)\; background-color: transparent\; font-variant-numeric: normal\; font-variant-east-asian: normal\; text-decoration-line: underline\; text-decoration-skip-ink: none\; vertical-align: baseline\; white-space: pre-wrap\;">Cobblestone</span></a><span style="font-size: 10pt\; background-color: transparent\; font-variant-numeric: normal\; font-variant-east-asian: normal\; vertical-align: baseline\; white-space: pre-wrap\;"> (4337 N. Lincoln) - 15% off entire order</span></span></p>\n\n<p dir="ltr" role="presentation" style="list-style-type: disc\; font-size: 10pt\; font-family: Arial\; background-color: transparent\; font-variant-numeric: normal\; font-variant-east-asian: normal\; vertical-align: baseline\; white-space: pre\;line-height:1.38\;margin-top:0pt\;margin-bottom:0pt\;"><span id="docs-internal-guid-aab236cc-7fff-a913-255b-a46dca9dd2d2"><a href="http://orderdonpedromexicanrestaurant.com/" style="text-decoration-line: none\;"><span style="font-size: 10pt\; color: rgb(17\, 85\, 204)\; background-color: transparent\; font-variant-numeric: normal\; font-variant-east-asian: normal\; text-decoration-line: underline\; text-decoration-skip-ink: none\; vertical-align: baseline\; white-space: pre-wrap\;">Don Pedro Mexican Restaurant</span></a><span style="font-size: 10pt\; color: rgb(0\, 0\, 0)\; background-color: transparent\; font-variant-numeric: normal\; font-variant-east-asian: normal\; vertical-align: baseline\; white-space: pre-wrap\;"> (4064 N. Lincoln Ave.) - 10% off entire order\; or 50% off an appetizer or dessert with purchase of 3 entrees</span></span></p>\n\n<p dir="ltr" role="presentation" style="list-style-type: disc\; font-size: 10pt\; font-family: Arial\; color: rgb(0\, 0\, 0)\; background-color: transparent\; font-variant-numeric: normal\; font-variant-east-asian: normal\; vertical-align: baseline\; white-space: pre\;line-height:1.38\;margin-top:0pt\;margin-bottom:0pt\;"><span id="docs-internal-guid-aab236cc-7fff-a913-255b-a46dca9dd2d2"><a href="https://www.jerryssandwiches.com/" style="text-decoration-line: none\;"><span style="font-size: 10pt\; color: rgb(17\, 85\, 204)\; background-color: transparent\; font-variant-numeric: normal\; font-variant-east-asian: normal\; text-decoration-line: underline\; text-decoration-skip-ink: none\; vertical-align: baseline\; white-space: pre-wrap\;">Jerry&rsquo\;s Sandwiches</span></a><span style="font-size: 10pt\; background-color: transparent\; font-variant-numeric: normal\; font-variant-east-asian: normal\; vertical-align: baseline\; white-space: pre-wrap\;"> (4739 N. Lincoln)&nbsp\; - 15% off entire order</span></span></p>\n\n<p dir="ltr" role="presentation" style="list-style-type: disc\; font-size: 10pt\; font-family: Arial\; color: rgb(0\, 0\, 0)\; background-color: transparent\; font-variant-numeric: normal\; font-variant-east-asian: normal\; vertical-align: baseline\; white-space: pre\;line-height:1.38\;margin-top:0pt\;margin-bottom:0pt\;"><span id="docs-internal-guid-aab236cc-7fff-a913-255b-a46dca9dd2d2"><a href="https://www.theglobepub.com/" style="text-decoration-line: none\;"><span style="font-size: 10pt\; color: rgb(17\, 85\, 204)\; background-color: transparent\; font-variant-numeric: normal\; font-variant-east-asian: normal\; text-decoration-line: underline\; text-decoration-skip-ink: none\; vertical-align: baseline\; white-space: pre-wrap\;">The Globe Pub</span></a><span style="font-size: 10pt\; background-color: transparent\; font-variant-numeric: normal\; font-variant-east-asian: normal\; vertical-align: baseline\; white-space: pre-wrap\;"> (1934 W. Irving Park) - $15 burger/beer/shot special\; <a href="https://www.northcenterchamber.com/events/details/the-globe-pub-hosts-a-virtual-beer-tasting-16020">Virtual Beer Tasting Event</a> hosted by the Globe Pub!</span></span></p>\n\n<p dir="ltr" role="presentation" style="list-style-type: disc\; font-size: 10pt\; font-family: Arial\; color: rgb(0\, 0\, 0)\; background-color: transparent\; font-variant-numeric: normal\; font-variant-east-asian: normal\; vertical-align: baseline\; white-space: pre\;line-height:1.38\;margin-top:0pt\;margin-bottom:0pt\;"><span id="docs-internal-guid-aab236cc-7fff-a913-255b-a46dca9dd2d2"><a href="https://theramblerchicago.com/" style="text-decoration-line: none\;"><span style="font-size: 10pt\; color: rgb(17\, 85\, 204)\; background-color: transparent\; font-variant-numeric: normal\; font-variant-east-asian: normal\; text-decoration-line: underline\; text-decoration-skip-ink: none\; vertical-align: baseline\; white-space: pre-wrap\;">The Rambler Kitchen + Tap</span></a><span style="font-size: 10pt\; background-color: transparent\; font-variant-numeric: normal\; font-variant-east-asian: normal\; vertical-align: baseline\; white-space: pre-wrap\;"> (4128 N. Lincoln) - 20% off Rambler Signature Items: Rambler burger\, jerk wings\, cheese curds and Ramblers signature cocktail menu. (Includes delivery)</span></span></p>\n\n<p dir="ltr" role="presentation" style="list-style-type: disc\; font-size: 10pt\; font-family: Arial\; color: rgb(0\, 0\, 0)\; background-color: transparent\; font-variant-numeric: normal\; font-variant-east-asian: normal\; vertical-align: baseline\; white-space: pre\;line-height:1.38\;margin-top:0pt\;margin-bottom:0pt\;"><span id="docs-internal-guid-aab236cc-7fff-a913-255b-a46dca9dd2d2"><a href="https://www.lmfinefoods.com/" style="text-decoration-line: none\;"><span style="font-size: 10pt\; color: rgb(17\, 85\, 204)\; background-color: transparent\; font-variant-numeric: normal\; font-variant-east-asian: normal\; text-decoration-line: underline\; text-decoration-skip-ink: none\; vertical-align: baseline\; white-space: pre-wrap\;">L&amp\;M Fine Foods</span></a><span style="font-size: 10pt\; background-color: transparent\; font-variant-numeric: normal\; font-variant-east-asian: normal\; vertical-align: baseline\; white-space: pre-wrap\;"> (4363 N. Lincoln) - 10% off beef purchases over $40 through our butcher counter</span></span></p>\n\n<p dir="ltr" role="presentation" style="list-style-type: disc\; font-size: 10pt\; font-family: Arial\; background-color: transparent\; font-variant-numeric: normal\; font-variant-east-asian: normal\; vertical-align: baseline\; white-space: pre\;line-height:1.38\;margin-top:0pt\;margin-bottom:0pt\;"><span id="docs-internal-guid-aab236cc-7fff-a913-255b-a46dca9dd2d2"><a href="https://lizzyjcatering.com/" style="text-decoration-line: none\;"><span style="font-size: 10pt\; color: rgb(17\, 85\, 204)\; background-color: transparent\; font-variant-numeric: normal\; font-variant-east-asian: normal\; text-decoration-line: underline\; text-decoration-skip-ink: none\; vertical-align: baseline\; white-space: pre-wrap\;">Lizzy J Cafe and Catering</span></a><span style="font-size: 10pt\; color: rgb(0\, 0\, 0)\; background-color: transparent\; font-variant-numeric: normal\; font-variant-east-asian: normal\; vertical-align: baseline\; white-space: pre-wrap\;"> (2205 W. Montrose) - Offering specials for pick-up!</span></span></p>\n\n<p dir="ltr" role="presentation" style="list-style-type: disc\; font-size: 10pt\; font-family: Arial\; background-color: transparent\; font-variant-numeric: normal\; font-variant-east-asian: normal\; vertical-align: baseline\; white-space: pre\;line-height:1.38\;margin-top:0pt\;margin-bottom:0pt\;"><span id="docs-internal-guid-aab236cc-7fff-a913-255b-a46dca9dd2d2"><a href="http://www.macdynamite.com/" style="text-decoration-line: none\;"><span style="font-size: 10pt\; color: rgb(17\, 85\, 204)\; background-color: transparent\; font-variant-numeric: normal\; font-variant-east-asian: normal\; text-decoration-line: underline\; text-decoration-skip-ink: none\; vertical-align: baseline\; white-space: pre-wrap\;">Mac Dynamite</span></a><span style="font-size: 10pt\; color: rgb(0\, 0\, 0)\; background-color: transparent\; font-variant-numeric: normal\; font-variant-east-asian: normal\; vertical-align: baseline\; white-space: pre-wrap\;"> (4131 N. Rockwell) - 15% off whole orders through ChowNow\, which also includes free delivery\, or pickup through the Mac Dynamite website\, Instagram\, or the Chownow app.&nbsp\; Use discount code: </span><span style="font-size: 10pt\; color: rgb(0\, 0\, 0)\; background-color: transparent\; font-weight: 700\; font-variant-numeric: normal\; font-variant-east-asian: normal\; vertical-align: baseline\; white-space: pre-wrap\;">Remix</span><span style="font-size: 10pt\; color: rgb(0\, 0\, 0)\; background-color: transparent\; font-variant-numeric: normal\; font-variant-east-asian: normal\; vertical-align: baseline\; white-space: pre-wrap\;">&nbsp\;</span></span></p>\n\n<p dir="ltr" role="presentation" style="list-style-type: disc\; font-size: 10pt\; font-family: Arial\; color: rgb(0\, 0\, 0)\; background-color: transparent\; font-variant-numeric: normal\; font-variant-east-asian: normal\; vertical-align: baseline\; white-space: pre\;line-height:1.38\;margin-top:0pt\;margin-bottom:0pt\;"><span id="docs-internal-guid-aab236cc-7fff-a913-255b-a46dca9dd2d2"><a href="https://www.mifogata.com/" style="text-decoration-line: none\;"><span style="font-size: 10pt\; color: rgb(17\, 85\, 204)\; background-color: transparent\; font-variant-numeric: normal\; font-variant-east-asian: normal\; text-decoration-line: underline\; text-decoration-skip-ink: none\; vertical-align: baseline\; white-space: pre-wrap\;">Mi Fogata</span></a><span style="font-size: 10pt\; background-color: transparent\; font-variant-numeric: normal\; font-variant-east-asian: normal\; vertical-align: baseline\; white-space: pre-wrap\;"> (4322 N. Western) - 20% off tacos and enchiladas</span></span></p>\n\n<p dir="ltr" role="presentation" style="list-style-type: disc\; font-size: 10pt\; font-family: Arial\; background-color: transparent\; font-variant-numeric: normal\; font-variant-east-asian: normal\; vertical-align: baseline\; white-space: pre\;line-height:1.38\;margin-top:0pt\;margin-bottom:0pt\;"><span id="docs-internal-guid-aab236cc-7fff-a913-255b-a46dca9dd2d2"><a href="https://irishbistro.com/" style="text-decoration-line: none\;"><span style="font-size: 10pt\; color: rgb(17\, 85\, 204)\; background-color: transparent\; font-variant-numeric: normal\; font-variant-east-asian: normal\; text-decoration-line: underline\; text-decoration-skip-ink: none\; vertical-align: baseline\; white-space: pre-wrap\;">Mrs. Murphy &amp\; Sons Irish Bistro</span></a><span style="font-size: 10pt\; color: rgb(0\, 0\, 0)\; background-color: transparent\; font-variant-numeric: normal\; font-variant-east-asian: normal\; vertical-align: baseline\; white-space: pre-wrap\;"> (3905 N. Lincoln) - 10% off any pickup or delivery orders placed with us online at irishbistro.com. Use the discount code: </span><span style="font-size: 10pt\; color: rgb(0\, 0\, 0)\; background-color: transparent\; font-weight: 700\; font-variant-numeric: normal\; font-variant-east-asian: normal\; vertical-align: baseline\; white-space: pre-wrap\;">NORTHCENTER</span></span></p>\n\n<p dir="ltr" role="presentation" style="list-style-type: disc\; font-size: 10pt\; font-family: Arial\; color: rgb(0\, 0\, 0)\; background-color: transparent\; font-variant-numeric: normal\; font-variant-east-asian: normal\; vertical-align: baseline\; white-space: pre\;line-height:1.38\;margin-top:0pt\;margin-bottom:0pt\;"><span id="docs-internal-guid-aab236cc-7fff-a913-255b-a46dca9dd2d2"><a href="https://www.reclaimedbarandrestaurant.com/" style="text-decoration-line: none\;"><span style="font-size: 10pt\; color: rgb(17\, 85\, 204)\; background-color: transparent\; font-variant-numeric: normal\; font-variant-east-asian: normal\; text-decoration-line: underline\; text-decoration-skip-ink: none\; vertical-align: baseline\; white-space: pre-wrap\;">Reclaimed Bar &amp\; Restaurant</span></a><span style="font-size: 10pt\; background-color: transparent\; font-variant-numeric: normal\; font-variant-east-asian: normal\; vertical-align: baseline\; white-space: pre-wrap\;"> (3655 N. Western) - Pulled Pork Sandwich or Brisket Burger with a draft beer for $15</span></span></p>\n\n<p dir="ltr" role="presentation" style="list-style-type: disc\; font-size: 10pt\; font-family: Arial\; color: rgb(0\, 0\, 0)\; background-color: transparent\; font-variant-numeric: normal\; font-variant-east-asian: normal\; vertical-align: baseline\; white-space: pre\;line-height:1.38\;margin-top:0pt\;margin-bottom:0pt\;"><span id="docs-internal-guid-aab236cc-7fff-a913-255b-a46dca9dd2d2"><a href="https://www.rocksnorthcenter.com/" style="text-decoration-line: none\;"><span style="font-size: 10pt\; color: rgb(17\, 85\, 204)\; background-color: transparent\; font-variant-numeric: normal\; font-variant-east-asian: normal\; text-decoration-line: underline\; text-decoration-skip-ink: none\; vertical-align: baseline\; white-space: pre-wrap\;">ROCKS Northcenter</span></a><span style="font-size: 10pt\; background-color: transparent\; font-variant-numeric: normal\; font-variant-east-asian: normal\; vertical-align: baseline\; white-space: pre-wrap\;"> (4138 N. Lincoln) - 20% off all to-go growlers and cocktails</span></span></p>\n\n<p dir="ltr" role="presentation" style="list-style-type: disc\; font-size: 10pt\; font-family: Arial\; color: rgb(0\, 0\, 0)\; background-color: transparent\; font-variant-numeric: normal\; font-variant-east-asian: normal\; vertical-align: baseline\; white-space: pre\;line-height:1.38\;margin-top:0pt\;margin-bottom:0pt\;"><span id="docs-internal-guid-aab236cc-7fff-a913-255b-a46dca9dd2d2"><a href="https://www.spicymex.com/" style="text-decoration-line: none\;"><span style="font-size: 10pt\; color: rgb(17\, 85\, 204)\; background-color: transparent\; font-variant-numeric: normal\; font-variant-east-asian: normal\; text-decoration-line: underline\; text-decoration-skip-ink: none\; vertical-align: baseline\; white-space: pre-wrap\;">Spicy Mexican Grill</span></a><span style="font-size: 10pt\; background-color: transparent\; font-variant-numeric: normal\; font-variant-east-asian: normal\; vertical-align: baseline\; white-space: pre-wrap\;"> (3925 N. Lincoln) - $5.99 burritos and burrito bowls</span></span></p>\n\n<p dir="ltr" role="presentation" style="list-style-type: disc\; font-size: 10pt\; font-family: Arial\; color: rgb(0\, 0\, 0)\; background-color: transparent\; font-variant-numeric: normal\; font-variant-east-asian: normal\; vertical-align: baseline\; white-space: pre\;line-height:1.38\;margin-top:0pt\;margin-bottom:0pt\;"><span id="docs-internal-guid-aab236cc-7fff-a913-255b-a46dca9dd2d2"><a href="https://www.tuscanhenmarket.com/" style="text-decoration-line: none\;"><span style="font-size: 10pt\; color: rgb(17\, 85\, 204)\; background-color: transparent\; font-variant-numeric: normal\; font-variant-east-asian: normal\; text-decoration-line: underline\; text-decoration-skip-ink: none\; vertical-align: baseline\; white-space: pre-wrap\;">Tuscan Hen Market</span></a><span style="font-size: 10pt\; background-color: transparent\; font-variant-numeric: normal\; font-variant-east-asian: normal\; vertical-align: baseline\; white-space: pre-wrap\;"> (4019 N. Damen) - Butternut squash tortellini\, an Italian house salad and pumpkin cannoli for $16.96 per person</span></span></p>\n\n<div style="list-style-type: disc\; font-size: 10pt\; font-family: Arial\; background-color: transparent\; font-variant-numeric: normal\; font-variant-east-asian: normal\; vertical-align: baseline\; white-space: pre\; line-height: 1.38\; margin-top: 0pt\; margin-bottom: 10pt\;"><span id="docs-internal-guid-aab236cc-7fff-a913-255b-a46dca9dd2d2"><a href="https://www.wildgoosebar.com/" style="text-decoration-line: none\;"><span style="font-size: 10pt\; color: rgb(17\, 85\, 204)\; background-color: transparent\; font-variant-numeric: normal\; font-variant-east-asian: normal\; text-decoration-line: underline\; text-decoration-skip-ink: none\; vertical-align: baseline\; white-space: pre-wrap\;">Wild Goose Bar &amp\; Grill</span></a><span style="font-size: 10pt\; color: rgb(0\, 0\, 0)\; background-color: transparent\; font-variant-numeric: normal\; font-variant-east-asian: normal\; vertical-align: baseline\; white-space: pre-wrap\;"> (4265 N. Lincoln) - Order of Wings and a beer for $12.&nbsp\; Dine in special only. </span></span><br />\n<span><span style="font-size: 10pt\; color: rgb(0\, 0\, 0)\; background-color: transparent\; font-variant-numeric: normal\; font-variant-east-asian: normal\; vertical-align: baseline\; white-space: pre-wrap\;"><span><span style="font-size: 10pt\; color: rgb(0\, 0\, 0)\; background-color: transparent\; font-variant-numeric: normal\; font-variant-east-asian: normal\; vertical-align: baseline\; white-space: pre-wrap\;"><span id="docs-internal-guid-aab236cc-7fff-a913-255b-a46dca9dd2d2"><a href="https://www.ziaslakeview.com/" style="text-decoration-line: none\;"><span style="font-size: 10pt\; font-family: Arial\; color: rgb(17\, 85\, 204)\; background-color: transparent\; font-variant-numeric: normal\; font-variant-east-asian: normal\; text-decoration-line: underline\; text-decoration-skip-ink: none\; vertical-align: baseline\; white-space: pre-wrap\;">Zia&#39\;s Lago Vista</span></a><span style="font-size: 10pt\; font-family: Arial\; color: rgb(0\, 0\, 0)\; background-color: transparent\; font-variant-numeric: normal\; font-variant-east-asian: normal\; vertical-align: baseline\; white-space: pre-wrap\;"> (3819 N. Ashland) - Appetizer\, entree and dessert for $35/person! Check out their special RestauranTOUR menu.</span></span></span></span></span></span></div>\n\n<p dir="ltr" role="presentation" style="list-style-type: disc\; font-size: 10pt\; font-family: Arial\; color: rgb(0\, 0\, 0)\; background-color: transparent\; font-variant-numeric: normal\; font-variant-east-asian: normal\; vertical-align: baseline\; white-space: pre\;line-height:1.38\;margin-top:10pt\;margin-bottom:0pt\;"><br />\n<strong>Before placing your orders\, please double check the restaurant&#39\;s open days and hours on their website. Some establishments may not be open everyday of the event.</strong></p>\n
LOCATION:Northcenter Neighborhood
UID:e.1775.16016
SEQUENCE:3
DTSTAMP:20260425T205215Z
URL:https://business.northcenterchamber.com/events/details/restaurantour-2020-remixed-a-10-day-culinary-celebration-of-northcenter-16016
END:VEVENT

END:VCALENDAR
