BEGIN:VCALENDAR
VERSION:2.0
PRODID:-//ChamberMaster//Event Calendar 2.0//EN
METHOD:PUBLISH
X-PUBLISHED-TTL:P3D
REFRESH-INTERVAL:P3D
CALSCALE:GREGORIAN
BEGIN:VEVENT
DTSTART:20200922T143000Z
DTEND:20200922T160000Z
X-MICROSOFT-CDO-ALLDAYEVENT:FALSE
SUMMARY:Rise and Shine Morning Coffee in Town Square
DESCRIPTION:We've missed you so much\, and we know our members have missed each other! Before it gets too cold\, let's gather for coffee and conversation in Town Square!\n\n\n\nWe are excited to have Botanical Cafe\, plant shop and cafe hybrid located in North Center\, as our coffee and tea sponsor for this event. \n\n\n\n(Event is capped at 30 participants. Participants must wear a face covering and maintain physical distancing as much as possible.)
X-ALT-DESC;FMTTYPE=text/html:<span style="font-size:14px\;"><span style="font-family:arial\;">We&#39\;ve missed you so much\, and we know our members have missed each other! Before it gets too cold\, let&#39\;s gather for coffee and conversation in Town Square!<br />\n<br />\nWe are excited to have <a href="https://www.facebook.com/Botanicalcafechicago/">Botanical Cafe</a>\, plant shop and cafe hybrid located in North Center\,&nbsp\;as our coffee and tea sponsor for this event.&nbsp\;</span></span><br />\n<br />\n(<strong>Event is capped at 30 participants. Participants must wear a face covering and maintain physical distancing as much as possible.)</strong>
LOCATION:Northcenter Town Square 4100 N. Damen
UID:e.1775.15870
SEQUENCE:3
DTSTAMP:20260425T223727Z
URL:https://business.northcenterchamber.com/events/details/rise-and-shine-morning-coffee-in-town-square-15870
END:VEVENT

END:VCALENDAR
