BEGIN:VCALENDAR
VERSION:2.0
PRODID:-//ChamberMaster//Event Calendar 2.0//EN
METHOD:PUBLISH
X-PUBLISHED-TTL:P3D
REFRESH-INTERVAL:P3D
CALSCALE:GREGORIAN
BEGIN:VEVENT
DTSTART:20200902T210000Z
DTEND:20200902T220000Z
X-MICROSOFT-CDO-ALLDAYEVENT:FALSE
SUMMARY:Rona Quartet Concert in Northcenter Town Square
DESCRIPTION:Rona Quartet Concert \n\nSponsored by Baird & Warner North Center
X-ALT-DESC;FMTTYPE=text/html:Rona Quartet Concert&nbsp\;<br />\nSponsored by Baird &amp\; Warner North Center&nbsp\;&nbsp\;&nbsp\;&nbsp\;
LOCATION:Northcenter Town Square 4100 N Damen Ave Chicago\, IL 60618
UID:e.1775.15853
SEQUENCE:3
DTSTAMP:20260425T210051Z
URL:https://business.northcenterchamber.com/events/details/rona-quartet-concert-in-northcenter-town-square-15853
END:VEVENT

END:VCALENDAR
