BEGIN:VCALENDAR
VERSION:2.0
PRODID:-//ChamberMaster//Event Calendar 2.0//EN
METHOD:PUBLISH
X-PUBLISHED-TTL:P3D
REFRESH-INTERVAL:P3D
CALSCALE:GREGORIAN
BEGIN:VEVENT
DTSTART:20220403T150000Z
DTEND:20220403T170000Z
X-MICROSOFT-CDO-ALLDAYEVENT:FALSE
SUMMARY:Roscoe Village Kidical Mass
DESCRIPTION:You're invited to Roscoe Village Kidical Mass! Kidical Mass is a fun\, free family bike ride for riders & passengers of all ages. The Roscoe Village ride is held the first Sunday of the month. It meets at the Audubon School playground (3500 N. Hoyne Ave.) at 10:00 for a 10:30 departure. Rain or shine. For more information please visit www.chicagofamilybiking.org or Chicago Family Biking events on Facebook
X-ALT-DESC;FMTTYPE=text/html:You&#39\;re invited to Roscoe Village Kidical Mass! Kidical Mass is a fun\, free family bike ride for riders &amp\; passengers of all ages. The Roscoe Village ride is held the first Sunday of the month. It meets at the Audubon School playground (3500 N. Hoyne Ave.) at 10:00 for a 10:30 departure. Rain or shine. For more information please visit www.chicagofamilybiking.org or Chicago Family Biking events on Facebook
LOCATION:Audubon School 3500 N. Hoyne
UID:e.1775.16968
SEQUENCE:3
DTSTAMP:20260420T115848Z
URL:https://business.northcenterchamber.com/events/details/roscoe-village-kidical-mass-16968
END:VEVENT

END:VCALENDAR
