BEGIN:VCALENDAR
VERSION:2.0
PRODID:-//ChamberMaster//Event Calendar 2.0//EN
METHOD:PUBLISH
X-PUBLISHED-TTL:P3D
REFRESH-INTERVAL:P3D
CALSCALE:GREGORIAN
BEGIN:VEVENT
DTSTART:20210827T210000Z
DTEND:20210827T230000Z
X-MICROSOFT-CDO-ALLDAYEVENT:FALSE
SUMMARY:Schultüte Basteln
DESCRIPTION:Join us on August 27th from 4-6pm at the DANK Haus for a German Back to School tradition!\n\n \n\nA 200-year-old German tradition\, a Schult te is a cone-shaped package filled with treats and school supplies. It is usually given to German students at the beginning of first grade\, but this wonderful tradition can be adapted to any age.\n\n \n\nGet your children ready for school and craft Schult ten with us!\n\n \n\nQuestions? Email us at kinderschule@dankhaus.com\n\n \n\nChildcare available - Suggested Donation: $15. Registration required.\n\n \n\nRSVP at https://dankhaus.com/event-4460538\n\n \n\nPlease Note: The Chicago Department of Public Health (CDPH) is requiring that everyone age two or older\, regardless of vaccination status\, wear masks in public indoor settings\, effective Friday\, August 20\, 2021. Masking remains optional in outdoor settings\, where the risk of COVID-19 transmission is lower\, though masks are recommended for unvaccinated individuals in crowded outdoor settings. Please be sure to wear your mask whenever you are indoors at the DANK Haus. If we work together to protect one another\, we can slow the spread of COVID-19.
X-ALT-DESC;FMTTYPE=text/html:<div>Join us on August 27th from 4-6pm at the DANK Haus for a German Back to School tradition!<br />\n&nbsp\;</div>\n\n<div>A 200-year-old German tradition\, a Schult&uuml\;te is a cone-shaped package filled with treats and school supplies. It is usually given to German students at the beginning of first grade\, but this wonderful tradition can be adapted to any age.<br />\n&nbsp\;</div>\n\n<div>Get your children ready for school and craft Schult&uuml\;ten with us!<br />\n&nbsp\;</div>\n\n<div>Questions? Email us at kinderschule@dankhaus.com<br />\n&nbsp\;</div>\n\n<div>Childcare available - Suggested Donation: $15. Registration required.<br />\n&nbsp\;</div>\n\n<div>RSVP at&nbsp\;<a class="oajrlxb2 g5ia77u1 qu0x051f esr5mh6w e9989ue4 r7d6kgcz rq0escxv nhd2j8a9 nc684nl6 p7hjln8o kvgmc6g5 cxmmr5t8 oygrvhab hcukyx3x jb3vyjys rz4wbd8a qt6c0cv9 a8nywdso i1ao9s8h esuyzwwr f1sip0of lzcic4wl py34i1dx gpro0wi8" href="https://l.facebook.com/l.php?u=https%3A%2F%2Fdankhaus.com%2Fevent-4460538%3Ffbclid%3DIwAR09owSW9WuhVR5oN-FXzUNGA_1jk22If54u2TZr5BUiSzZJCLbxQdqPPXY&amp\;h=AT27uDV_GIJWVqMjiLcelFEJoCOcK174FoyCtDHOmjOvAZbpm9S2Lif-uBw2-fUNBfdaEjETk8gaHCQ5f-8QQDGfvKf2fUaCAiM8P3Dg_GGXwasAgzeF-ngMZHRIq7kLqg&amp\;__tn__=q&amp\;c[0]=AT2yGG8lHUr7v0O5o4kwJ3_9dvogO615SI3d5qfcw_x6xqRiKcAKPIT6Y1DLhMWYQ-MMe5HICxcdlrUTi86eXx78XSbXSWXKQ-PiVRxe6NTEtcXmVG-85fml1RqQk4E9hUoL-ruXK1UmLInDSdMa2ukz_mT38PjOOfYhFcGrAi17RL4PpQ" rel="nofollow noopener" style="color: var(--blue-link)\; cursor: pointer\; text-decoration-line: none\; outline: none\; list-style: none\; border-width: 0px\; border-style: initial\; border-color: initial\; padding: 0px\; margin: 0px\; touch-action: manipulation\; background-color: transparent\; text-align: inherit\; display: inline\; -webkit-tap-highlight-color: transparent\; box-sizing: border-box\; font-family: inherit\;" tabindex="0" target="_blank">https://dankhaus.com/event-4460538</a><br />\n&nbsp\;</div>\n\n<div>Please Note: The Chicago Department of Public Health (CDPH) is requiring that everyone age two or older\, regardless of vaccination status\, wear masks in public indoor settings\, effective Friday\, August 20\, 2021. Masking remains optional in outdoor settings\, where the risk of COVID-19 transmission is lower\, though masks are recommended for unvaccinated individuals in crowded outdoor settings. Please be sure to wear your mask whenever you are indoors at the DANK Haus. If we work together to protect one another\, we can slow the spread of COVID-19.</div>\n
LOCATION:DANK Haus German American Cultural Center 4740 N. Western Ave Chicago\, IL 60625
UID:e.1775.16341
SEQUENCE:3
DTSTAMP:20260421T011405Z
URL:https://business.northcenterchamber.com/events/details/schult&#252;te-basteln-16341
END:VEVENT

END:VCALENDAR
