BEGIN:VCALENDAR
VERSION:2.0
PRODID:-//ChamberMaster//Event Calendar 2.0//EN
METHOD:PUBLISH
X-PUBLISHED-TTL:P3D
REFRESH-INTERVAL:P3D
CALSCALE:GREGORIAN
BEGIN:VEVENT
DTSTART:20210501T140000Z
DTEND:20210501T150000Z
X-MICROSOFT-CDO-ALLDAYEVENT:FALSE
SUMMARY:Sensory or Behavior - Why is my child acting this way? Webinar
DESCRIPTION:Sensory or Behavior - Why is my child acting this way?\n\nGreat for parents of children of all ages & professionals\n\n\n\nPresented by Natalie Loewe MS\, OTR/L\, Director of Occupational Therapy\n\n\n\nWorkshop Overview:\n\n	Learn reasons for challenging behaviors\, including sensory integration dysfunction\n	as well as the functions that these behaviors serve\n	Guidelines for determining if the challenging behavior is sensory based or strictly 'behavioral'\n	Suggestions for working through challenging behaviors\, whatever the reason\n\n**Q&A with the presenter at the end!
X-ALT-DESC;FMTTYPE=text/html:<span style="font-size:14px\;"><strong>Sensory or Behavior - Why is my child acting this way?</strong><br />\nGreat for parents of children of all ages &amp\; professionals<br />\n<br />\nPresented by Natalie Loewe MS\, OTR/L\, Director of Occupational Therapy<br />\n<br />\nWorkshop Overview:</span>\n<ul>\n	<li><span style="font-size:14px\;">Learn reasons for challenging behaviors\, including sensory integration dysfunction</span></li>\n	<li><span style="font-size:14px\;">as well as the functions that these behaviors serve</span></li>\n	<li><span style="font-size:14px\;">Guidelines for determining if the challenging behavior is sensory based or strictly &lsquo\;behavioral&rsquo\;</span></li>\n	<li><span style="font-size:14px\;">Suggestions for working through challenging behaviors\, whatever the reason</span></li>\n</ul>\n<span style="font-size:14px\;">**Q&amp\;A with the presenter at the end!</span>\n\n<table border="0" cellpadding="0" cellspacing="0" style="border-collapse: collapse\; color: rgb(34\, 34\, 34)\; font-family: Roboto\, RobotoDraft\, Helvetica\, Arial\, sans-serif\; font-size: small\; background-color: rgb(255\, 253\, 253)\; min-width: 100%\;" width="100%">\n	<tbody>\n	</tbody>\n</table>\n\n<table border="0" cellpadding="0" cellspacing="0" style="border-collapse: collapse\; color: rgb(34\, 34\, 34)\; font-family: Roboto\, RobotoDraft\, Helvetica\, Arial\, sans-serif\; font-size: small\; background-color: rgb(255\, 253\, 253)\; min-width: 100%\;" width="100%">\n	<tbody>\n	</tbody>\n</table>\n
LOCATION:Virtual Webinar
UID:e.1775.16113
SEQUENCE:3
DTSTAMP:20260421T064816Z
URL:https://business.northcenterchamber.com/events/details/sensory-or-behavior-why-is-my-child-acting-this-way-webinar-16113
END:VEVENT

END:VCALENDAR
