BEGIN:VCALENDAR
VERSION:2.0
PRODID:-//ChamberMaster//Event Calendar 2.0//EN
METHOD:PUBLISH
X-PUBLISHED-TTL:P3D
REFRESH-INTERVAL:P3D
CALSCALE:GREGORIAN
BEGIN:VEVENT
DTSTART:20200924T163000Z
DTEND:20200924T180000Z
X-MICROSOFT-CDO-ALLDAYEVENT:FALSE
SUMMARY:September Luncheon: 2020
DESCRIPTION:In addition to a topic presentation or guest speaker\, come enjoy a delicious catered lunch and make valuable business contacts in your neighborhood. Will update with more information soon!
X-ALT-DESC;FMTTYPE=text/html:<div>In addition to a topic&nbsp\;presentation or guest speaker\, come enjoy a delicious catered lunch and make valuable business contacts in your neighborhood. Will update with more information soon!</div>\n\n<div>&nbsp\;</div>\n
LOCATION:Location is TBD at this time.
UID:e.1775.13705
SEQUENCE:3
DTSTAMP:20260425T204838Z
URL:https://business.northcenterchamber.com/events/details/september-luncheon-2020-13705
END:VEVENT

END:VCALENDAR
