BEGIN:VCALENDAR
VERSION:2.0
PRODID:-//ChamberMaster//Event Calendar 2.0//EN
METHOD:PUBLISH
X-PUBLISHED-TTL:P3D
REFRESH-INTERVAL:P3D
CALSCALE:GREGORIAN
BEGIN:VEVENT
DTSTART:20210918T003000Z
DTEND:20210918T040000Z
X-MICROSOFT-CDO-ALLDAYEVENT:FALSE
SUMMARY:September Stammtisch
DESCRIPTION:We are so excited to be back in the Haus for another Stammtisch! Join us on Friday\,  September 17th at 7:30pm for a Stammtisch open house event! Our September Stammtisch will feature delicious food\, drink\, and snacks for purchase!
X-ALT-DESC;FMTTYPE=text/html:<p>We are so excited to be back in the Haus for another Stammtisch! Join us on Friday\,&nbsp\; September 17th at 7:30pm for a Stammtisch open house event!&nbsp\;Our September Stammtisch will feature delicious food\, drink\, and snacks for purchase!&nbsp\;</p>\n\n<div>&nbsp\;</div>\n
LOCATION:DANK Haus 4740 N. Western Ave. ?Chicago\, IL 60625
UID:e.1775.16340
SEQUENCE:3
DTSTAMP:20260420T232543Z
URL:https://business.northcenterchamber.com/events/details/september-stammtisch-16340
END:VEVENT

END:VCALENDAR
