BEGIN:VCALENDAR
VERSION:2.0
PRODID:-//ChamberMaster//Event Calendar 2.0//EN
METHOD:PUBLISH
X-PUBLISHED-TTL:P3D
REFRESH-INTERVAL:P3D
CALSCALE:GREGORIAN
BEGIN:VEVENT
DTSTART;VALUE=DATE:20210201
DTEND;VALUE=DATE:20210227
TRANSP:TRANSPARENT
X-MICROSOFT-CDO-ALLDAYEVENT:TRUE
SUMMARY:Show Love Locally - Valentine Raffle
DESCRIPTION:This February\, celebrate the spirit of love by supporting Northcenter businesses and entering the Chamber's Valentine Raffle! We know how fun\, creative & talented our neighbors are and would love to see a virtual showcase of your skills by showing love locally.\n\n \nCreate a "valentine" or record a video about one of your favorite Northcenter businesses! In your social media post\, tell us what you LOVE about them and tag us #Northcenterlove.\n \n\nEach valentine submission will receive one entry to the prize raffle - $50 gift card to Northcenter businesses of your choice! Contest runs from 2/1 - 2/26\, winner announcement on 3/1.
X-ALT-DESC;FMTTYPE=text/html:<span style="font-size:14px\;"><span style="font-family:arial\;">This February\, celebrate the spirit of love by supporting Northcenter businesses and entering the Chamber&#39\;s Valentine Raffle! We know how fun\, creative &amp\; talented our neighbors are and would love to see a virtual showcase of your skills by showing love locally.</span></span><br />\n&nbsp\;\n<p dir="ltr" style="line-height:1.38\;margin-top:0pt\;margin-bottom:0pt\;"><span style="font-size:14px\;"><span style="font-family:arial\;"><span id="docs-internal-guid-843ae5ab-7fff-fb63-9a23-1745e09cf7fc"><span style="color: rgb(0\, 0\, 0)\; background-color: transparent\; font-variant-numeric: normal\; font-variant-east-asian: normal\; vertical-align: baseline\; white-space: pre-wrap\;">Create a &quot\;valentine&quot\; or record a video about one of your favorite Northcenter businesses! In your social media post\, tell us what you LOVE about them and tag us #Northcenterlove.</span></span></span></span></p>\n&nbsp\;\n\n<p dir="ltr" style="line-height:1.38\;margin-top:0pt\;margin-bottom:0pt\;"><span style="font-size:14px\;"><span style="font-family:arial\;"><span id="docs-internal-guid-843ae5ab-7fff-fb63-9a23-1745e09cf7fc"><span style="color: rgb(0\, 0\, 0)\; background-color: transparent\; font-variant-numeric: normal\; font-variant-east-asian: normal\; vertical-align: baseline\; white-space: pre-wrap\;">Each valentine submission will receive one entry to the prize raffle - $50 gift card to Northcenter businesses of your choice! </span></span></span></span><span style="font-size:14px\;"><span style="font-family:arial\;"><span id="docs-internal-guid-843ae5ab-7fff-fb63-9a23-1745e09cf7fc"><span style="color: rgb(0\, 0\, 0)\; background-color: transparent\; font-variant-numeric: normal\; font-variant-east-asian: normal\; vertical-align: baseline\; white-space: pre-wrap\;">Contest runs from 2/1 - 2/26\, winner announcement on 3/1.</span></span></span></span></p>\n
LOCATION:Virtual valentine submissions: Facebook\, Instagram\, Twitter #Northcenterlove
UID:e.1775.16056
SEQUENCE:3
DTSTAMP:20260425T141008Z
URL:https://business.northcenterchamber.com/events/details/show-love-locally-valentine-raffle-16056
END:VEVENT

END:VCALENDAR
