BEGIN:VCALENDAR
VERSION:2.0
PRODID:-//ChamberMaster//Event Calendar 2.0//EN
METHOD:PUBLISH
X-PUBLISHED-TTL:P3D
REFRESH-INTERVAL:P3D
CALSCALE:GREGORIAN
BEGIN:VEVENT
DTSTART:20210301T160000Z
DTEND:20210411T045500Z
X-MICROSOFT-CDO-ALLDAYEVENT:FALSE
SUMMARY:Sign up for Hop\, Stop N Run: A Virtual 5K
DESCRIPTION:Registration is now OPEN for Hop\, Stop 'N' Run! \n \n\nWe're hopping right into spring with an all-new\, socially-distanced community event. Join us from April 3rd through 10th for Hop\, Stop 'N' Run\, a virtual fun & fitness 5K! Sign up with your family\, friends or neighbors\, lace up your gym shoes and grab your bike helmets\, enjoy some fresh air and explore Northcenter on foot or by bike at your own pace. Choose your own route and day to participate between April 3rd and 10th. \n\n\n\nAlong the route\, stop in and say hello to your favorite local businesses\, or treat yourself when your 5K is over. Use our map and interactive bingo card for extra layers of fun\, friendly competition and exploration. Share your experience using #Northcenter5K on Facebook or Instagram for a chance to win prizes! All participants receive an event t-shirt and swag bag. \n\n\n\nThis fun-and-fitness fundraiser will help the Northcenter Chamber continue to provide resources and programming to local small businesses and the Northcenter neighborhood at this critical time\, and support Common Pantry's tireless efforts to fight hunger and poverty in our communities. We hope you will hop along and join us!
X-ALT-DESC;FMTTYPE=text/html:<h1 style="margin: 0px\; padding: 0px\; color: rgb(32\, 32\, 32)\; font-family: Helvetica\; font-size: 26px\; font-weight: bold\; line-height: 32.5px\;"><a href="https://go.rallyup.com/Northcenter5K"><span style="font-family: &quot\;open sans&quot\;\, &quot\;helvetica neue&quot\;\, helvetica\, arial\, sans-serif\;"><font color="#000000">Registration is now OPEN for Hop\, Stop &#39\;N&#39\; Run!&nbsp\;</font></span></a></h1>\n<span style="color: rgb(32\, 32\, 32)\; font-family: Helvetica\; font-size: 16px\;">&nbsp\;</span>\n\n<p style="margin: 10px 0px\; padding: 0px\; color: rgb(32\, 32\, 32)\; font-family: Helvetica\; font-size: 16px\; line-height: 24px\;"><span style="font-family: &quot\;open sans&quot\;\, &quot\;helvetica neue&quot\;\, helvetica\, arial\, sans-serif\;">We&#39\;re hopping right into spring with an all-new\, socially-distanced community event. Join us from April 3rd through 10th for Hop\, Stop &#39\;N&#39\; Run\, a virtual fun &amp\; fitness 5K!&nbsp\;Sign up with your family\, friends or neighbors\, lace up your gym shoes and grab your bike helmets\, enjoy some fresh air and explore Northcenter on foot or by bike at your own pace. Choose your own route and day to participate between April 3rd and 10th.&nbsp\;<br />\n<br />\nAlong the route\, stop in and say hello to your favorite local businesses\, or treat yourself when your 5K is over.&nbsp\;Use our map and interactive bingo card for extra layers of fun\, friendly competition and exploration.&nbsp\;Share your experience using #Northcenter5K on&nbsp\;<a data-saferedirecturl="https://www.google.com/url?q=https://northcenterchamber.us4.list-manage.com/track/click?u%3D7e5547f2a8a32cf210ec8e902%26id%3D14ac94f265%26e%3Dae86097a9b&amp\;source=gmail&amp\;ust=1614877830536000&amp\;usg=AFQjCNGCAWSX9ly85PlJUdPR9pGRxeKhgw" href="https://www.facebook.com/Northcenter/" rel="noopener noreferrer" style="color: rgb(0\, 124\, 137)\;" target="_blank">Facebook</a>&nbsp\;or&nbsp\;<a data-saferedirecturl="https://www.google.com/url?q=https://northcenterchamber.us4.list-manage.com/track/click?u%3D7e5547f2a8a32cf210ec8e902%26id%3D2359f367a0%26e%3Dae86097a9b&amp\;source=gmail&amp\;ust=1614877830536000&amp\;usg=AFQjCNEag-yHAHZIsmQcI-QL5FhevLMTKw" href="https://instagram.com/northcenter" rel="noopener noreferrer" style="color: rgb(0\, 124\, 137)\;" target="_blank">Instagram</a>&nbsp\;for a chance to win prizes! All participants receive an event t-shirt and swag bag.&nbsp\;<br />\n<br />\nThis fun-and-fitness fundraiser will help the Northcenter Chamber continue to provide resources and programming to local small businesses and the Northcenter neighborhood at this critical time\, and support&nbsp\;<strong><a data-saferedirecturl="https://www.google.com/url?q=https://northcenterchamber.us4.list-manage.com/track/click?u%3D7e5547f2a8a32cf210ec8e902%26id%3Dfca9d09c99%26e%3Dae86097a9b&amp\;source=gmail&amp\;ust=1614877830536000&amp\;usg=AFQjCNFyeoF_Z3jUm1rr0kZYOBHZLQUcDw" href="https://commonpantry.org" style="color: rgb(0\, 124\, 137)\; font-weight: normal\;" target="_blank"><span style="color: rgb(0\, 0\, 0)\;">Common Pantry</span></a></strong>&#39\;s tireless efforts to fight hunger and poverty in our communities. We hope you will hop along and join us!&nbsp\;</span></p>\n
LOCATION:Northcenter neighborhood and beyond
UID:e.1775.16071
SEQUENCE:3
DTSTAMP:20260423T084750Z
URL:https://business.northcenterchamber.com/events/details/sign-up-for-hop-stop-n-run-a-virtual-5k-16071
END:VEVENT

END:VCALENDAR
