BEGIN:VCALENDAR
VERSION:2.0
PRODID:-//ChamberMaster//Event Calendar 2.0//EN
METHOD:PUBLISH
X-PUBLISHED-TTL:P3D
REFRESH-INTERVAL:P3D
CALSCALE:GREGORIAN
BEGIN:VEVENT
DTSTART:20210610T220000Z
DTEND:20210610T233000Z
X-MICROSOFT-CDO-ALLDAYEVENT:FALSE
SUMMARY:Sit 'N Stay in the Square
DESCRIPTION:It's been a long winter\, and we've missed gathering with our Chamber members. It's time to enjoy being outdoors and reconnect with our neighbors and northcenter furry friends. Join us on June 10th as we gather for an afterhours networking event Sit 'n' Stay in the Square!\n\n\n\nThis is a dog friendly event for our members\, neighbors & their furry friends! Along with conversation and dog play time\, treats will be included for people & dogs alike. Bring your pups by to say hello to our dog-friendly members Urban Pooch\, Bosly's Backyard and Wags-A-Lot Dog Walking in the town square!\n\n\n(Event is capped at 60 participants. Participants must wear a face covering and maintain physical distancing as much as possible.)
X-ALT-DESC;FMTTYPE=text/html:<span style="font-size:14px\;"><span style="color: rgb(34\, 34\, 34)\; font-family: Arial\, Helvetica\, sans-serif\;">It&#39\;s been a long winter\, and we&#39\;ve missed gathering with our Chamber members. It&#39\;s time to enjoy being outdoors and reconnect with our neighbors and northcenter furry friends. Join us on June 10th as we gather for an afterhours networking event Sit &#39\;n&#39\; Stay in the Square!<br />\n<br />\nThis is a dog friendly event for our members\, neighbors &amp\; their furry friends! Along with conversation and dog play time\, treats will be included for people &amp\; dogs alike. Bring your pups by to say hello to our dog-friendly members&nbsp\;<a href="https://urbanpooch.com/">Urban Pooch</a>\,&nbsp\;</span><span style="font-family:arial\;"><span style="color: rgb(32\, 33\, 36)\; background-color: rgba(255\, 255\, 255\, 0.9)\;"><a href="https://www.boslysbackyard.com/">Bosly&#39\;s Backyard</a>&nbsp\;and&nbsp\;</span></span></span><a href="http://wagsalotdogwalking.com/"><span style="background-color: rgba(255\, 255\, 255\, 0.9)\; font-family: arial\; font-size: 14px\;">Wags-A-Lot Dog Walking</span></a><span style="background-color: rgba(255\, 255\, 255\, 0.9)\; color: rgb(32\, 33\, 36)\; font-family: arial\; font-size: 14px\;">&nbsp\;in the town square!</span>\n<div><br />\n<span style="font-size:14px\;">(<strong>Event is capped at 60 participants. Participants must wear a face covering and maintain physical distancing as much as possible.)&nbsp\;</strong></span></div>\n
LOCATION:Northcenter Town Square 4100 N. Damen Ave.
UID:e.1775.16254
SEQUENCE:3
DTSTAMP:20260421T044818Z
URL:https://business.northcenterchamber.com/events/details/sit-n-stay-in-the-square-16254
END:VEVENT

END:VCALENDAR
