BEGIN:VCALENDAR
VERSION:2.0
PRODID:-//ChamberMaster//Event Calendar 2.0//EN
METHOD:PUBLISH
X-PUBLISHED-TTL:P3D
REFRESH-INTERVAL:P3D
CALSCALE:GREGORIAN
BEGIN:VEVENT
DTSTART:20260429T150000Z
DTEND:20260429T170000Z
X-MICROSOFT-CDO-ALLDAYEVENT:FALSE
SUMMARY:Small Business Grants Workshop
DESCRIPTION:Join the Chicago Department of Planning and Development (DPD) and Aid. Nicole Lee (11th) for an informational session that provides an overview of  DPD's programs for business owners.
X-ALT-DESC;FMTTYPE=text/html:<div style="text-align: center\;">Join the Chicago Department of Planning and Development (DPD) and Aid. Nicole Lee (11th) for an informational session that provides an overview of&nbsp\; DPD&#39\;s programs for business owners.&nbsp\;&nbsp\;</div>\n
LOCATION:5415 N Clark St
UID:e.1775.21873
SEQUENCE:3
DTSTAMP:20260424T220415Z
URL:https://business.northcenterchamber.com/events/details/small-business-grants-workshop-21873
END:VEVENT

END:VCALENDAR
