BEGIN:VCALENDAR
VERSION:2.0
PRODID:-//ChamberMaster//Event Calendar 2.0//EN
METHOD:PUBLISH
X-PUBLISHED-TTL:P3D
REFRESH-INTERVAL:P3D
CALSCALE:GREGORIAN
BEGIN:VEVENT
DTSTART:20210602T180000Z
DTEND:20210602T190000Z
X-MICROSOFT-CDO-ALLDAYEVENT:FALSE
SUMMARY:Small Business Improvement Fund: Western Ave South TIF: Webinar
DESCRIPTION:Somercor will be accepting applications for the Small Business Improvement Fund (SBIF) program for the Western Avenue South TIF area\, which includes parts of Northcenter and Roscoe Village (incl. select parts of Western\, Irving Park\, Lincoln & Damen) beginning June 1st\, 2021.\n\n\n \n\nThe SBIF program uses Tax Increment Financing (TIF) revenues to assist owners and tenants of commercial and industrial properties with financing for permanent building improvements. Program participants can receive reimbursement grants covering 25%\, 50%\, or 75% of approved project costs. Grants are provided after an approved project is complete and all expenses are paid. \n\n\n\nDPD and SomerCor will host a webinar on Wednesday\, June 2nd at 1 pm to provide an overview of the SBIF program and application process. You can register for the webinar here.\n\n \n\nMore information about the SBIF program\, as well as the application and a link to a map of the Western Avenue South TIF\, can be found at the links below. \n\nOne page summary\n\nSBIF Program Rules \n\nSBIF Application
X-ALT-DESC;FMTTYPE=text/html:<div style="color: rgb(34\, 34\, 34)\; font-family: arial\, sans-serif\; font-size: 12.8px\; line-height: normal\;"><span style="font-size: 12px\;">Somercor will be accepting applications&nbsp\;for the Small Business Improvement Fund (SBIF) program for the&nbsp\;</span><span class="il" style="font-size: 12px\;">Western</span><span style="font-size: 12px\;">&nbsp\;</span><span class="il" style="font-size: 12px\;">Avenue</span><span style="font-size: 12px\;">&nbsp\;</span><span class="il" style="font-size: 12px\;">South</span><span style="font-size: 12px\;">&nbsp\;TIF area\, which includes parts of Northcenter and Roscoe Village (incl. select parts of&nbsp\;</span><span class="il" style="font-size: 12px\;">Western</span><span style="font-size: 12px\;">\, Irving Park\, Lincoln &amp\; Damen) beginning&nbsp\;</span><strong style="font-size: 12px\;">June 1st\, 2021.</strong></div>\n\n<div style="color: rgb(34\, 34\, 34)\; font-family: arial\, sans-serif\; font-size: 12.8px\; line-height: normal\;">\n<div>&nbsp\;</div>\n\n<div><span style="font-size: 12px\;">The&nbsp\;SBIF&nbsp\;program uses Tax Increment Financing (TIF) revenues to assist owners and tenants of commercial and industrial properties with financing for permanent building improvements. Program participants can receive reimbursement grants covering 25%\, 50%\, or 75% of approved project costs. Grants are provided after an approved project is complete and all expenses are paid.&nbsp\;</span></div>\n\n<div><br />\n<span style="font-size:14px\;"><span style="color: black\; font-family: Calibri\, sans-serif\; border: 1pt none windowtext\; padding: 0in\;">DPD and SomerCor will host a webinar on&nbsp\;<b><span style="background-image: initial\; background-position: initial\; background-size: initial\; background-repeat: initial\; background-origin: initial\; background-clip: initial\;">Wednesday\, June 2<sup>nd</sup>&nbsp\;at 1 pm&nbsp\;</span></b>to provide an overview of the&nbsp\;SBIF&nbsp\;program and application process. You can<a href="https://cityofchicago-org.zoom.us/webinar/register/WN_CNoYeOE6R0KpwEAmqan7aQ">&nbsp\;</a></span></span><span style="font-size:14px\;"><span style="color: black\; font-family: &quot\;Times New Roman&quot\;\, serif\;"><a href="https://cityofchicago-org.zoom.us/webinar/register/WN_CNoYeOE6R0KpwEAmqan7aQ"><span style="font-family: Calibri\, sans-serif\; border: 1pt none windowtext\; padding: 0in\;">register</span></a></span></span><a href="https://cityofchicago-org.zoom.us/webinar/register/WN_CNoYeOE6R0KpwEAmqan7aQ"><span style="font-size:14px\;"><span style="color: black\; font-family: Calibri\, sans-serif\; border: 1pt none windowtext\; padding: 0in\;">&nbsp\;for the webinar here.</span></span></a><br />\n&nbsp\;</div>\n\n<div><span style="font-size: 12px\;">More information about the&nbsp\;SBIF&nbsp\;program\, as well as the application and a link to a map of the&nbsp\;<span class="il">Western</span>&nbsp\;<span class="il">Avenue</span>&nbsp\;<span class="il">South</span>&nbsp\;TIF\, can be found at the links below.&nbsp\;<br />\n<a href="https://www.chicago.gov/city/en/sites/small-business-improvement-fund/home.html"><span style="font-size:14px\;">One page summary</span></a></span>\n\n<div style="color: rgb(34\, 34\, 34)\; font-family: arial\, sans-serif\; font-size: 12.8px\;"><a data-saferedirecturl="https://www.google.com/url?q=https://f.hubspotusercontent00.net/hubfs/6811454/2021%2520SBIF%2520Program%2520Rules.pdf&amp\;source=gmail&amp\;ust=1622650185190000&amp\;usg=AFQjCNGcu8TxNjp5fUR_z0ZnCh_ZMrTDXw" href="https://f.hubspotusercontent00.net/hubfs/6811454/2021%20SBIF%20Program%20Rules.pdf" style="color: rgb(17\, 85\, 204)\;" target="_blank">SBIF&nbsp\;Program Rules&nbsp\;</a></div>\n\n<div style="color: rgb(34\, 34\, 34)\; font-family: arial\, sans-serif\; font-size: 12.8px\;"><a data-saferedirecturl="https://www.google.com/url?q=http://somercor.com/sbif/&amp\;source=gmail&amp\;ust=1622650185190000&amp\;usg=AFQjCNE2s01knCmh9wfVarDHmoHZFb8iCg" href="http://somercor.com/sbif/" style="color: rgb(17\, 85\, 204)\;" target="_blank">SBIF&nbsp\;Application</a></div>\n<br />\n&nbsp\;</div>\n</div>\n
LOCATION:Register here
UID:e.1775.16291
SEQUENCE:3
DTSTAMP:20260421T044955Z
URL:https://business.northcenterchamber.com/events/details/small-business-improvement-fund-western-ave-south-tif-webinar-16291
END:VEVENT

END:VCALENDAR
