BEGIN:VCALENDAR
VERSION:2.0
PRODID:-//ChamberMaster//Event Calendar 2.0//EN
METHOD:PUBLISH
X-PUBLISHED-TTL:P3D
REFRESH-INTERVAL:P3D
CALSCALE:GREGORIAN
BEGIN:VEVENT
DTSTART;VALUE=DATE:20201128
DTEND;VALUE=DATE:20201130
TRANSP:TRANSPARENT
X-MICROSOFT-CDO-ALLDAYEVENT:TRUE
SUMMARY:SMALL BUSINESS SATURDAY 2020
DESCRIPTION:Shop local this holiday season! Grab lunch\, get those gifts and make some fabulous winter outing plans! Look out for our Shop Local Gift Guide\, available at a number of Northcenter shops and restaurants.
X-ALT-DESC;FMTTYPE=text/html:<span style="font-family:arial\;"><span style="font-size:12px\;"><strong>Shop local this holiday season! Grab lunch\, get those gifts and make some fabulous winter outing plans! Look out for our Shop Local Gift Guide\, available at a number of Northcenter shops and restaurants.&nbsp\;</strong></span></span><br />\n<style type="text/css"><!--td {border: 1px solid #ccc\;}br {mso-data-placement:same-cell\;}-->\n</style>\n<style type="text/css"><!--td {border: 1px solid #ccc\;}br {mso-data-placement:same-cell\;}-->\n</style>\n<style type="text/css"><!--td {border: 1px solid #ccc\;}br {mso-data-placement:same-cell\;}-->\n</style>\n<style type="text/css"><!--td {border: 1px solid #ccc\;}br {mso-data-placement:same-cell\;}-->\n</style>\n<style type="text/css"><!--td {border: 1px solid #ccc\;}br {mso-data-placement:same-cell\;}-->\n</style>\n
LOCATION:Businesses around Northcenter
UID:e.1775.13751
SEQUENCE:3
DTSTAMP:20260425T190310Z
URL:https://business.northcenterchamber.com/events/details/small-business-saturday-2020-13751
END:VEVENT

END:VCALENDAR
