BEGIN:VCALENDAR
VERSION:2.0
PRODID:-//ChamberMaster//Event Calendar 2.0//EN
METHOD:PUBLISH
X-PUBLISHED-TTL:P3D
REFRESH-INTERVAL:P3D
CALSCALE:GREGORIAN
BEGIN:VEVENT
DTSTART;VALUE=DATE:20211127
DTEND;VALUE=DATE:20211129
TRANSP:TRANSPARENT
X-MICROSOFT-CDO-ALLDAYEVENT:TRUE
SUMMARY:Small Business Saturday in Northcenter 2021
DESCRIPTION:Shop local this holiday season! Take a stroll through the neighborhood and grab lunch from one of our fantastic restaurants\, get all the gifts on your list\, and make some fabulous winter outing plans. \n\n\n\nKeep an eye out for our Shop Local Gift Guide\, which will be available online and at a number of Northcenter shops and restaurants.
X-ALT-DESC;FMTTYPE=text/html:Shop local this holiday season! Take a stroll through the neighborhood and grab lunch from one of our fantastic restaurants\, get all the gifts on your list\, and make some fabulous winter outing plans.&nbsp\;<br />\n<br />\nKeep an eye out for our Shop Local Gift Guide\, which will be available online and at a number of Northcenter shops and restaurants.&nbsp\;
LOCATION:Businesses throughout Northcenter
UID:e.1775.16360
SEQUENCE:3
DTSTAMP:20260420T201514Z
URL:https://business.northcenterchamber.com/events/details/small-business-saturday-in-northcenter-2021-16360
END:VEVENT

END:VCALENDAR
