BEGIN:VCALENDAR
VERSION:2.0
PRODID:-//ChamberMaster//Event Calendar 2.0//EN
METHOD:PUBLISH
X-PUBLISHED-TTL:P3D
REFRESH-INTERVAL:P3D
CALSCALE:GREGORIAN
BEGIN:VEVENT
DTSTART:20210528T000000Z
DTEND:20210530T020000Z
X-MICROSOFT-CDO-ALLDAYEVENT:FALSE
SUMMARY:Spring Fling New Play Festival
DESCRIPTION:Stage Left Theatre presents SPRING FLING! The first annual outdoor new short play festival. We asked seven Chicago playwrights to write a short ten minute play addressing the question: HOW HAS THE WORLD CHANGED? (and boy has it!)\n\n\n\nJoin us for this outdoor\, in -person performance at the Northcenter Town Square (4100 North Damen Ave) as SLT rings in the spring and celebrates the return of LIVE theatre. Leave you laptops at home and bring a comfy chair for this outdoor new play festival (three nights only!!!) May 27\, 28 and 29th at 7:00pm.
X-ALT-DESC;FMTTYPE=text/html:Stage Left Theatre presents SPRING FLING! The first annual outdoor new short play festival. We asked seven Chicago playwrights to write a short ten minute play addressing the question: HOW HAS THE WORLD CHANGED? (and boy has it!)<br />\n<br />\nJoin us for this outdoor\, in -person performance at the Northcenter Town Square (4100 North Damen Ave) as SLT rings in the spring and celebrates the return of LIVE theatre. Leave you laptops at home and bring a comfy chair for this outdoor new play festival (three nights only!!!) May 27\, 28 and 29th at 7:00pm.
LOCATION:Northcenter Town Square 4100 N. Damen Ave.
UID:e.1775.16281
SEQUENCE:3
DTSTAMP:20260421T064943Z
URL:https://business.northcenterchamber.com/events/details/spring-fling-new-play-festival-16281
END:VEVENT

END:VCALENDAR
